BEGIN:VCALENDAR
VERSION:2.0
PRODID:-//ChamberMaster//Event Calendar 2.0//EN
METHOD:PUBLISH
X-PUBLISHED-TTL:P3D
REFRESH-INTERVAL:P3D
CALSCALE:GREGORIAN
BEGIN:VEVENT
DTSTART:20161116T013000Z
DTEND:20161116T033000Z
X-MICROSOFT-CDO-ALLDAYEVENT:FALSE
SUMMARY:Member Event: Night with a Futurist: The Future of Healthcare
DESCRIPTION:Healthcare is on the verge of a massive transition and we are seeing major shifts in both how we receive the care and interact with the system.\n \nOver the short term we'll all be paying more\, but it'll become easier to shop around. More insurers have begun covering telemedicine services which also allow consumers to access health care 24/7 from home.\n\n \nMedical grade wearables are coming. FitBit and Apple Watch are great for the casual health enthusiast to keep track of his vitals\, but the potential for so-called "medical-grade wearables\," devices designed to aid in the prevention or treatment of a specific disease is just starting to be realized.\n\n \nPrivate exchanges are growing. An increasing number of businesses are opting out of traditional insurance in favor of private exchanges\, which allow consumers to search for health insurance in much the same way they'd search for a vacation package on Travelocity.com\, but your doctor may no longer be in network.\n\n \nHouse calls are making a comeback. Several start-ups around the country are now promising to deliver a doctor to your door within an hour or two.\n\n \nSo what other changes are on the horizon? Join us as we explore far ranging trends in health care at our next Night with a Futurist.
X-ALT-DESC;FMTTYPE=text/html:Healthcare is on the verge of a massive transition and we are seeing major shifts in both how we receive the care and interact with the system.\n<div>&nbsp\;</div>\nOver the short term we&#39\;ll all be paying more\, but it&#39\;ll become easier to shop around. More insurers have begun covering telemedicine services which also allow consumers to access health care 24/7 from home.\n\n<div>&nbsp\;</div>\nMedical grade wearables are coming. FitBit and Apple Watch are great for the casual health enthusiast to keep track of his vitals\, but the potential for so-called &ldquo\;medical-grade wearables\,&rdquo\; devices designed to aid in the prevention or treatment of a specific disease is just starting to be realized.\n\n<div>&nbsp\;</div>\nPrivate exchanges are growing. An increasing number of businesses are opting out of traditional insurance in favor of private exchanges\, which allow consumers to search for health insurance in much the same way they&rsquo\;d search for a vacation package on Travelocity.com\, but your doctor may no longer be in network.\n\n<div>&nbsp\;</div>\nHouse calls are making a comeback. Several start-ups around the country are now promising to deliver a doctor to your door within an hour or two.\n\n<div>&nbsp\;</div>\nSo what other changes are on the horizon? Join us as we explore far ranging trends in health care at our next Night with a Futurist.
LOCATION:DaVinci Institute 9191 Sheridan Boulevard\, Ste. 300\, Westminster\, CO 80031
UID:e.2690.2753
SEQUENCE:3
DTSTAMP:20260422T070652Z
URL:https://www.westminsterchamber.biz/events/details/member-event-night-with-a-futurist-the-future-of-healthcare-2753
END:VEVENT

END:VCALENDAR
