BEGIN:VCALENDAR
VERSION:2.0
PRODID:-//ChamberMaster//Event Calendar 2.0//EN
METHOD:PUBLISH
X-PUBLISHED-TTL:P3D
REFRESH-INTERVAL:P3D
CALSCALE:GREGORIAN
BEGIN:VEVENT
DTSTART:20160929T010000Z
DTEND:20160929T030000Z
X-MICROSOFT-CDO-ALLDAYEVENT:FALSE
SUMMARY:Member Event: Paint it Forward with St. Jude Children's Research Hospital
DESCRIPTION:Pinot's Palette\, the first international franchisor of paint and sip studios in North America\, will host a national fundraising event on September 28\, 2016 at participating studios across the country in support of the lifesaving mission of St. Jude Children's Research Hospital \, Finding cures.  \n\n \n\nDuring the Painting It Forward event\, Pinot's Palette studios will donate a minimum of $15 per seat reservation to St. Jude. Pinot's Palette chose St. Jude because of the hospital's success in finding ways to improve the survival rate of childhood cancers. Treatments invented at St. Jude have helped push the overall childhood cancer survival rate from 20 percent to 80 percent since it opened more than 50 years ago. The hospital is working to drive the overall survival rate for childhood cancer to 90 percent\, and won't stop until no child dies from cancer.\n\n \n\n"We are very excited about the opportunity to work with St. Jude Children's Research Hospital again\," said Charles Willis\, Co-Founder and President of Pinot's Palette. "The hospital is leading the way the world understands\, treats and defeats childhood cancer and other life-threatening diseases."\n\n \n\nThis is the second year that all Pinot's Palette studios have supported St. Jude on a national scale. Commitment to community and partners is one of the Pinot's Palette values\, and Painting It Forward is how local studios give back year-round.\n\n\n\n\n\nLast year through the Pinot's Palette campaign\, over 1\,500 participants raised more than $34\,000 for St. Jude   surpassing the original goal of $30\,000. \n\n \n\n"Because the majority of funding for St. Jude comes from individual contributions\, we know that the money we raise is having a direct impact on the lifesaving work the hospital is doing to fight childhood cancer\," Willis said. "We look forward to a larger event this year with even more participants raising funds to benefit this incredible organization." \n\n \n\nTo book a reservation\, visit https://www.pinotspalette.com/westminsternorth/event/115387.\n\n \n\nAbout Pinot's Palette \n\n \n\nPinot's Palette is a pioneer of the paint and sip experience   a revolutionary way to enjoy art and wine\, meet new people and bond with friends. With more than 180 locations open or under development across 35 states and Canada\, and new locations popping up monthly\, Pinot's Palette is the world's fastest growing paint and sip franchise. Guests enjoy a no-skills-required art class all supplies included directed by trained\, local artists\, who guide guests step-by-step through a featured painting. By bringing fun\, modern and creative ideas to their events\, Pinot's Palette curates a unique\, rewarding experience while providing a worthwhile contribution to the community. For more information\, visit www.pinotspalette.com. \n\n \n\n###
X-ALT-DESC;FMTTYPE=text/html:<a href="https://www.pinotspalette.com/"><span style="font-family: century gothic\,sans-serif\;">Pinot&#39\;s Palette</span></a><span style="font-family: century gothic\,sans-serif\;">\,</span><span style="font-family: century gothic\,sans-serif\;"> the first international franchisor of paint and sip studios in North America\, will host a national fundraising event on September 28\, 2016 at participating studios across the country in support of the lifesaving mission of St. Jude Children&rsquo\;s Research Hospital&reg\;\, <em>Finding cures. &nbsp\;</em></span><br />\n&nbsp\;<br />\n<span style="font-family: century gothic\,sans-serif\;">During the Painting It Forward event\,</span><span style="font-family: century gothic\,sans-serif\;"> Pinot</span><em><span style="font-family: century gothic\,sans-serif\;">&rsquo\;</span></em><span style="font-family: century gothic\,sans-serif\;">s Palette</span><span style="font-family: century gothic\,sans-serif\;"> studios will donate a minimum of $15 per seat reservation to St. Jude. </span><span style="font-family: century gothic\,sans-serif\;">Pinot</span><em><span style="font-family: century gothic\,sans-serif\;">&rsquo\;</span></em><span style="font-family: century gothic\,sans-serif\;">s Palette</span><span style="font-family: century gothic\,sans-serif\;"> chose St. Jude because of the hospital&rsquo\;s success in finding ways to improve the survival rate of childhood cancers. </span><span style="font-family: century gothic\,sans-serif\;">Treatments invented at St. Jude have helped push the overall childhood cancer survival rate from 20 percent to 80 percent since it opened more than 50 years ago. The hospital is working to drive the overall survival rate for childhood cancer to 90 percent\, and won&rsquo\;t stop until no child dies from cancer.</span><br />\n&nbsp\;<br />\n<span style="font-family: century gothic\,sans-serif\;">&ldquo\;We are very excited about the opportunity to work with St. Jude Children&rsquo\;s Research Hospital again\,&rdquo\; said Charles Willis\, Co-Founder and President of </span><span style="font-family: century gothic\,sans-serif\;">Pinot</span><em><span style="font-family: century gothic\,sans-serif\;">&rsquo\;</span></em><span style="font-family: century gothic\,sans-serif\;">s Palette</span><span style="font-family: century gothic\,sans-serif\;">. &ldquo\;The hospital is leading the way the world understands\, treats and defeats childhood cancer and other life-threatening diseases.&rdquo\;</span><br />\n&nbsp\;<br />\n<span style="font-family: century gothic\,sans-serif\;">This is the second year that all <em>Pinot&rsquo\;s Palette</em> studios have supported St. Jude on a national scale. Commitment to community and partners is one of the <em>Pinot&rsquo\;s Palette</em> values\, and Painting It Forward is how local studios give back year-round.</span><br />\n<br />\n<br />\n<span style="font-family: century gothic\,sans-serif\;">Last year through the </span><span style="font-family: century gothic\,sans-serif\;">Pinot&rsquo\;s Palette</span><span style="font-family: century gothic\,sans-serif\;"> campaign\,</span> <span style="font-family: century gothic\,sans-serif\;">over 1\,500 participants</span><span style="font-family: century gothic\,sans-serif\;"> raised more than</span> <span style="font-family: century gothic\,sans-serif\;">$34\,000 for St. Jude &ndash\; surpassing the original goal of $30\,000. </span><br />\n&nbsp\;<br />\n<span style="font-family: century gothic\,sans-serif\;">&ldquo\;Because the majority of funding for St. Jude comes from individual contributions\, we know that the money we raise is having a direct impact on the lifesaving work the hospital is doing to fight childhood cancer\,&rdquo\; Willis said. &ldquo\;We look forward to a larger event this year with even more participants raising funds to benefit this incredible organization.&rdquo\; </span><br />\n&nbsp\;<br />\n<span style="font-family: century gothic\,sans-serif\;">To book a reservation\, visit https://www.pinotspalette.com/westminsternorth/event/115387.</span><br />\n&nbsp\;<br />\n<strong><span style="font-family: century gothic\,sans-serif\;">About </span></strong><strong><em><span style="font-family: century gothic\,sans-serif\;">Pinot</span></em></strong><strong><em><span style="font-family: century gothic\,sans-serif\;">&rsquo\;</span></em></strong><strong><em><span style="font-family: century gothic\,sans-serif\;">s Palette</span></em></strong>&nbsp\;<br />\n&nbsp\;<br />\n<span style="font-family: century gothic\,sans-serif\;">Pinot&#39\;s Palette</span>&nbsp\;<span style="font-family: century gothic\,sans-serif\;">is a pioneer of the paint and sip experience </span><span style="font-family: century gothic\,sans-serif\;">&ndash\; </span><span style="font-family: century gothic\,sans-serif\;">a revolutionary way to enjoy art and wine\, meet new people and bond with friends. With more than 180 locations open or under development across 35 states and Canada\, and new locations popping up monthly\, </span><span style="font-family: century gothic\,sans-serif\;">Pinot</span><em><span style="font-family: century gothic\,sans-serif\;">&rsquo\;</span></em><span style="font-family: century gothic\,sans-serif\;">s Palette</span>&nbsp\;<span style="font-family: century gothic\,sans-serif\;">is the world</span><span style="font-family: century gothic\,sans-serif\;">&rsquo\;</span><span style="font-family: century gothic\,sans-serif\;">s fastest growing paint and sip franchise. Guests enjoy a no-skills-required art class</span><span style="font-family: century gothic\,sans-serif\;">&mdash\;</span><span style="font-family: century gothic\,sans-serif\;">all supplies included</span><span style="font-family: century gothic\,sans-serif\;">&mdash\;</span><span style="font-family: century gothic\,sans-serif\;">directed by trained\, local artists\, who guide guests step-by-step through a featured painting. By bringing fun\, modern and creative ideas to their events\,</span>&nbsp\;<span style="font-family: century gothic\,sans-serif\;">Pinot</span><em><span style="font-family: century gothic\,sans-serif\;">&rsquo\;</span></em><span style="font-family: century gothic\,sans-serif\;">s Palette</span>&nbsp\;<span style="font-family: century gothic\,sans-serif\;">curates a unique\, rewarding experience while providing a worthwhile contribution to the community. For more information\, visit www.pinotspalette.com.</span>&nbsp\;<br />\n&nbsp\;<br />\n<span style="font-family: century gothic\,sans-serif\;">###</span><br />\n&nbsp\;<br />\n&nbsp\;
LOCATION:Pinot's Palette - Westminster North is located at 14315 Orchard Parkway\, Sutie 200\, Westminster\, CO 80023\, in Orchard Parkway at the Southwest corner of 144th and Orchard Parkway.
UID:e.2690.2741
SEQUENCE:3
DTSTAMP:20260422T083724Z
URL:https://www.westminsterchamber.biz/events/details/member-event-paint-it-forward-with-st-jude-children-s-research-hospital-2741
END:VEVENT

END:VCALENDAR
