BEGIN:VCALENDAR
VERSION:2.0
PRODID:-//ChamberMaster//Event Calendar 2.0//EN
METHOD:PUBLISH
X-PUBLISHED-TTL:P3D
REFRESH-INTERVAL:P3D
CALSCALE:GREGORIAN
BEGIN:VEVENT
DTSTART:20161023T163000Z
DTEND:20161023T183000Z
X-MICROSOFT-CDO-ALLDAYEVENT:FALSE
SUMMARY:Member Event: Photography Class for Business Owners
DESCRIPTION:Limited spots available! For all business owners who have an online presence such as a website\, instagram\, Facebook\, Pinterest etc. If you own a dslr camera or are thinking about purchasing one\, this class is for you. The class will be split up into two levels. First class teaches you how to use manual settings on your camera. We will go into the basics of aperture\, shutter speed\, ISO\, focus modes and drive mode. I will then get with each student for some one on one. The second class will go over lighting and light metering\, white balance/Kelvin\, best set-up and editing in Photoshop. After the class you will get access to a private Facebook group for post-workshop assistance where you can ask questions or brainstorm if needed. The class is sold as a pair\, you need to take both classes in order to get full benefits.
X-ALT-DESC;FMTTYPE=text/html:Limited spots available! For all business owners who have an online presence such as a website\, instagram\, Facebook\, Pinterest etc. If you own a dslr camera or are thinking about purchasing one\, this class is for you. The class will be split up into two levels. First class teaches you how to use manual settings on your camera. We will go into the basics of aperture\, shutter speed\, ISO\, focus modes and drive mode. I will then get with each student for some one on one. The second class will go over lighting and light metering\, white balance/Kelvin\, best set-up and editing in Photoshop. After the class you will get access to a private Facebook group for post-workshop assistance where you can ask questions or brainstorm if needed. The class is sold as a pair\, you need to take both classes in order to get full benefits.
LOCATION:Switchboard Networking Boutique 1975 W. 120th Ave. Unit # 800 Westminster \, CO 80234
UID:e.2690.2746
SEQUENCE:3
DTSTAMP:20260422T083427Z
URL:https://www.westminsterchamber.biz/events/details/member-event-photography-class-for-business-owners-2746
END:VEVENT

END:VCALENDAR
