BEGIN:VCALENDAR
VERSION:2.0
PRODID:-//ChamberMaster//Event Calendar 2.0//EN
METHOD:PUBLISH
X-PUBLISHED-TTL:P3D
REFRESH-INTERVAL:P3D
CALSCALE:GREGORIAN
BEGIN:VEVENT
DTSTART:20161021T003000Z
DTEND:20161021T020000Z
X-MICROSOFT-CDO-ALLDAYEVENT:FALSE
SUMMARY:Member Event: Reliv: Health & Wellness Event
DESCRIPTION:Come check out what is unique about the health and wellness offered through patented and bioactive nutrients of Reliv Int'l. Meet professionals who are benefiting from optimal health found in Reliv.
X-ALT-DESC;FMTTYPE=text/html:Come check out what is unique about the health and wellness offered through patented and bioactive nutrients of Reliv Int&#39\;l. Meet professionals who are benefiting from optimal health found in Reliv.
LOCATION:Zoe's Coffee 11255 Decatur St. (Federal and 112th)
UID:e.2690.2752
SEQUENCE:3
DTSTAMP:20260422T065519Z
URL:https://www.westminsterchamber.biz/events/details/member-event-reliv-health-wellness-event-2752
END:VEVENT

END:VCALENDAR
