BEGIN:VCALENDAR
VERSION:2.0
PRODID:-//ChamberMaster//Event Calendar 2.0//EN
METHOD:PUBLISH
X-PUBLISHED-TTL:P3D
REFRESH-INTERVAL:P3D
CALSCALE:GREGORIAN
BEGIN:VEVENT
DTSTART:20160607T180000Z
DTEND:20160607T190000Z
X-MICROSOFT-CDO-ALLDAYEVENT:FALSE
SUMMARY:Member Event: Review Marketing: Grow Your Business with Positive Reviews - Free Lunch-n-Learn
DESCRIPTION:Avoid the 3 Massive Mistakes Local Businesses Make That is Ruining Their Online Reputation\n\n\n\nReview Marketing: Grow Your Business with Positive Reviews\n\n\n\nJoin Peter Brissette for this 1 hour Lunch-N-Learn where you'll discover:\n\n\n	The best way to collect positive online reviews\n	How to handle a negative review...before it happens\n	The key steps to boosting your local SEO and making the phone ring\n\n\n\n\nTickets are normally $15 but free when you Pre-Register by calling Carole at 303-327-9926.\n\n\n\nLunch-n-Learn runs from 12-1PM - Lunch is Included
X-ALT-DESC;FMTTYPE=text/html:<p><strong>Avoid the 3 Massive Mistakes Local Businesses Make That is Ruining Their Online Reputation</strong><br />\n<br />\n<span style="font-size: 20px\;">Review Marketing: Grow Your Business with Positive Reviews</span><br />\n<br />\nJoin Peter Brissette for this 1 hour Lunch-N-Learn where you&#39\;ll discover:</p>\n\n<ul>\n	<li>The best way to collect positive online reviews</li>\n	<li>How to handle a negative review...before it happens</li>\n	<li>The key steps to boosting your local SEO and making the phone ring</li>\n</ul>\n\n<p><br />\n<strong>Tickets are normally $15 but free when you Pre-Register by calling Carole at 303-327-9926.</strong><br />\n<br />\nLunch-n-Learn runs from 12-1PM - Lunch is Included</p>\n
LOCATION:Zoes Coffee 11225 Decatur St Westminster\, CO 80234
UID:e.2690.2175
SEQUENCE:3
DTSTAMP:20260422T134341Z
URL:https://www.westminsterchamber.biz/events/details/member-event-review-marketing-grow-your-business-with-positive-reviews-free-lunch-n-learn-06-07-2016-2175
END:VEVENT

END:VCALENDAR
