BEGIN:VCALENDAR
VERSION:2.0
PRODID:-//ChamberMaster//Event Calendar 2.0//EN
METHOD:PUBLISH
X-PUBLISHED-TTL:P3D
REFRESH-INTERVAL:P3D
CALSCALE:GREGORIAN
BEGIN:VEVENT
DTSTART:20160626T000000Z
DTEND:20160626T050000Z
X-MICROSOFT-CDO-ALLDAYEVENT:FALSE
SUMMARY:Member Event: Romito Foundation Beer and Wine Tasting
DESCRIPTION:Saturday\, June 25\n\n6pm - 11pm
X-ALT-DESC;FMTTYPE=text/html:Saturday\, June 25<br />\n6pm - 11pm
LOCATION:Westin Westminster 10600 Westminster Boulevard Westminster\, CO 80020
UID:e.2690.2439
SEQUENCE:3
DTSTAMP:20260422T132501Z
URL:https://www.westminsterchamber.biz/events/details/member-event-romito-foundation-beer-and-wine-tasting-06-25-2016-2439
END:VEVENT

END:VCALENDAR
