BEGIN:VCALENDAR
VERSION:2.0
PRODID:-//ChamberMaster//Event Calendar 2.0//EN
METHOD:PUBLISH
X-PUBLISHED-TTL:P3D
REFRESH-INTERVAL:P3D
CALSCALE:GREGORIAN
BEGIN:VEVENT
DTSTART:20160626T000000Z
DTEND:20160626T050000Z
X-MICROSOFT-CDO-ALLDAYEVENT:FALSE
SUMMARY:Member Event: Romito Foundation Beer and Wine Tasting Event
DESCRIPTION:Romito Foundation Beer and Wine Tasting 2016\n\nBeer and Wine from over 15 breweries and 10 wineries\, unlimited tasting\, appetizers\n\nFabulous music by Swerve\n\n An amazing silent auction!!  \n\nSupports local warriors with Duchenne Muscular Dystrophy\, a 100% fatal strain of MD.  Life expectancy is 18-25 years. We are here to provide camp and activities to the young men in Colorado with this disease.
X-ALT-DESC;FMTTYPE=text/html:<div style="text-align: center\;"><span style="font-size:14px"><span style="font-family:tahoma"><span style="color:rgb(255\, 0\, 0)"><u><strong>Romito Foundation Beer and Wine Tasting 2016</strong></u></span><br>\nBeer and Wine from over 15 breweries and 10 wineries\, unlimited tasting\, appetizers<br>\n<span style="color:rgb(255\, 0\, 0)"><strong>Fabulous music by Swerve</strong><br>\n&nbsp\;<strong>An amazing silent auction!! &nbsp\;</strong></span><br>\nSupports local warriors with Duchenne Muscular Dystrophy\, a 100% fatal strain of MD. &nbsp\;Life expectancy is 18-25 years. We are here to provide camp and activities to the young men in Colorado with this disease. &nbsp\;</span></span></div>\n
LOCATION:Westin Hotel in the Westminster Ballroom 10600 Westminster Blvd Westminster\, Colorado
UID:e.2690.2702
SEQUENCE:3
DTSTAMP:20260422T151709Z
URL:https://www.westminsterchamber.biz/events/details/member-event-romito-foundation-beer-and-wine-tasting-event-06-25-2016-2702
END:VEVENT

END:VCALENDAR
