BEGIN:VCALENDAR
VERSION:2.0
PRODID:-//ChamberMaster//Event Calendar 2.0//EN
METHOD:PUBLISH
X-PUBLISHED-TTL:P3D
REFRESH-INTERVAL:P3D
CALSCALE:GREGORIAN
BEGIN:VEVENT
DTSTART:20160609T223000Z
DTEND:20160610T003000Z
X-MICROSOFT-CDO-ALLDAYEVENT:FALSE
SUMMARY:Member Event: StartUp Junkie: Leveraging Your Network to Grow Your Business
DESCRIPTION:Hundreds of connections on LinkedIn? Thousands of Facebook friends? As business owners we've been taught to cast a wider net and build a bigger network.  After all\, bigger is better\, right?  This session at StartUp Junkie will challenge that notion.  In fact\, humans are only capable of managing a small number of relationships.  We'll talk about cognitive limits and how you can improve the quality and power of your network without increasing its size. You'll leave with a plan for strengthening your network and leveraging it to grow your business.\n \n\nEntrepreneur and connector Philip Pelto is passionate about teaching and specifically about seeing his clients grow and succeed. As a salesperson he learned that building relationships and working from referrals was the path to success and with his networking organization MyFirestorm he's able to spread his ideas far and wide. \n \n\nTo quote Harvey Mackay\, a great networker in his own right\, "If I had to name the single characteristic shared by all truly successful individuals\, I'd say it is the ability to create and nurture a network of contacts." \n \n\nPhilip is originally from Taylors Falls\, Minnesota. He graduated from Augsburg College in Minneapolis\, Minnesota with a Bachelor of Arts in Business Finance. In his free time he enjoys running marathons\, biking\, and climbing.
X-ALT-DESC;FMTTYPE=text/html:<p><span style="background-color:transparent\; color:rgb(0\, 0\, 0)\; font-family:arial\; font-size:14.6667px">Hundreds of connections on LinkedIn? Thousands of Facebook friends? </span><span style="color:rgb(34\, 34\, 34)\; font-family:arial\; font-size:14.6667px">As business owners we&rsquo\;ve been taught to cast a wider net and build a bigger network. &nbsp\;After all\, bigger is better\, right? &nbsp\;This session at StartUp Junkie will challenge that notion. &nbsp\;In fact\, humans are only capable of managing a small number of relationships. &nbsp\;We&rsquo\;ll talk about cognitive limits and how you can improve the quality and power of your network without increasing its size. You&rsquo\;ll leave with a plan for strengthening your network and leveraging it to grow your business.</span></p>\n&nbsp\;\n\n<p><span style="color:rgb(0\, 0\, 0)\; font-family:arial\; font-size:14.6667px">Entrepreneur and connector</span><span style="background-color:transparent\; color:rgb(0\, 0\, 0)\; font-family:arial\; font-size:14.6667px"> Philip Pelto is passionate about teaching and specifically about seeing his clients grow and succeed. As a salesperson he learned that building relationships and working from referrals was the path to success and with his networking organization MyFirestorm he&rsquo\;s able to spread his ideas far and wide. </span></p>\n&nbsp\;\n\n<p><span style="background-color:transparent\; color:rgb(0\, 0\, 0)\; font-family:arial\; font-size:14.6667px">To quote Harvey Mackay\, a great networker in his own right\, &quot\;If I had to name the single characteristic shared by all truly successful individuals\, I&#39\;d say it is the ability to create and nurture a network of contacts.&quot\; </span></p>\n&nbsp\;\n\n<p><span style="background-color:transparent\; color:rgb(0\, 0\, 0)\; font-family:arial\; font-size:14.6667px">Philip is originally from Taylors Falls\, Minnesota. He graduated from Augsburg College in Minneapolis\, Minnesota with a Bachelor of Arts in Business Finance. In his free time he enjoys running marathons\, biking\, and climbing.</span></p>\n\n<div>&nbsp\;</div>\n
LOCATION:DaVinci Institute
UID:e.2690.2435
SEQUENCE:3
DTSTAMP:20260422T152221Z
URL:https://www.westminsterchamber.biz/events/details/member-event-startup-junkie-leveraging-your-network-to-grow-your-business-06-09-2016-2435
END:VEVENT

END:VCALENDAR
