BEGIN:VCALENDAR
VERSION:2.0
PRODID:-//ChamberMaster//Event Calendar 2.0//EN
METHOD:PUBLISH
X-PUBLISHED-TTL:P3D
REFRESH-INTERVAL:P3D
CALSCALE:GREGORIAN
BEGIN:VEVENT
DTSTART:20160915T233000Z
DTEND:20160916T013000Z
X-MICROSOFT-CDO-ALLDAYEVENT:FALSE
SUMMARY:Member Event: StartUp Junkie: Secret Business Funding Techniques from Colorado's Funding Expert
DESCRIPTION:The number of companies seeking capital in the U.S. is currently at an all time high. Startup fever has captured the imagination of would-be entrepreneurs everywhere\, but more so in Denver.\n\n\n\nDenver was recently named the "most coveted city in the U.S. to move to." Another survey showed Denver having the highest percent of millennials of any city in the U.S. and the 3rd fastest growing tech city. All this attention makes competition for capital in Denver one of the toughest in the nation.\n\n\n\nThis means the battle for startup dollars\, beyond Friends and Family\, is very intense. VCs\, PEs\, Family Offices\, Angels\, Angel Groups\, Hedge Funds and Foundations are besieged with requests for funding.\n\n\n\nSo\, how do you increase your odds of raising capital? \n\n\n\nMichael Knight is an entrepreneur with a large Rolodex of investors in each of the 7 categories listed above. He has already raised over $1 billion for early stage businesses and he's just getting warmed up.\n\n\n\nDoes he know the person who can help fund your business? Maybe\, but maybe not. But he does know some of the most ingenious funding techniques in the industry. \n\n\n\nJoin us as we take a deep dive into the secret formulas for funding your business.\n\nPresenter:  \n\nMichael Knight is a seasoned veteran of helping entrepreneurs and existing businesses get the capital they need\, whether that is startup money or a 2nd or 3rd round of funding.\n\n\n\nWith 36+ years experience in financial services\, 15 of that in mortgage banking\, including the formation of the first national mortgage banking rollup into a national partnership.\n\n\n\nHe brings with him connections from Wall Street\, to Silicon Valley\, Venture Capital\, Private Equity\, Family Offices\, a Hedge Fund and Angel investors. He specializes in joint ventures\, strategic alliances\, rollups and reverse mergers.\n\nAs a serial entrepreneur\, Michael has built 4 businesses\, sold 3 of them\, and has authored 3 books.\n\n\n\nFree for DaVinci Members\, $10 for Non-Members\n\nClick here to register!\n\nLet us know that you will be attending on Facebook!
X-ALT-DESC;FMTTYPE=text/html:<p><span style="color:rgb(0\, 0\, 0)\; font-family:arial\; font-size:12px">The number of companies seeking capital in the U.S. is currently at an all time high. Startup fever has captured the imagination of would-be entrepreneurs everywhere\, but more so in Denver.</span><br />\n<br />\n<span style="color:rgb(0\, 0\, 0)\; font-family:arial\; font-size:12px\; line-height:1.6">Denver was recently named the &ldquo\;most coveted city in the U.S. to move to.&rdquo\; Another survey showed Denver having the highest percent of millennials of any city in the U.S. and the 3rd fastest growing tech city. All this attention makes competition for capital in Denver one of the toughest in the nation.</span><br />\n<br />\n<span style="color:rgb(0\, 0\, 0)\; font-family:arial\; font-size:12px\; line-height:1.6">This means the battle for startup dollars\, beyond Friends and Family\, is very intense. VCs\, PEs\, Family Offices\, Angels\, Angel Groups\, Hedge Funds and Foundations are besieged with requests for funding.</span><br />\n<br />\n<span style="color:rgb(0\, 0\, 0)\; font-family:arial\; font-size:12px\; line-height:1.6">So\, how do you increase your odds of raising capital? </span><br />\n<br />\n<span style="color:rgb(0\, 0\, 0)\; font-family:arial\; font-size:12px\; line-height:1.6">Michael Knight is an entrepreneur with a large Rolodex of investors in each of the 7 categories listed above. He has already raised over $1 billion for early stage businesses and he&rsquo\;s just getting warmed up.</span><br />\n<br />\n<span style="color:rgb(0\, 0\, 0)\; font-family:arial\; font-size:12px\; line-height:1.6">Does he know the person who can help fund your business? Maybe\, but maybe not. But he does know some of the most ingenious funding techniques in the industry.&nbsp\;</span><br />\n<br />\n<span style="color:rgb(0\, 0\, 0)\; font-family:arial\; font-size:12px\; line-height:1.6">Join us as we take a deep dive into the secret formulas for funding your business.</span></p>\n\n<p><strong>Presenter:</strong><span style="color:rgb(0\, 0\, 0)\; font-family:arial\; font-size:12px">&nbsp\;&nbsp\;</span><br />\n<span style="font-family:arial\; font-size:12px">Michael Knight is a seasoned veteran of helping </span><span style="color:rgb(0\, 0\, 0)\; font-family:arial\; font-size:12px">entrepreneurs and existing businesses get the capital they need\, whether that is startup money or a 2nd or 3rd round of funding.</span><br />\n<br />\n<span style="color:rgb(0\, 0\, 0)\; font-family:arial\; font-size:12px\; line-height:1.6">With 36+ years experience in financial services\, 15 of that in mortgage banking\, including the formation of the first national mortgage banking rollup into a national partnership.</span><br />\n<br />\n<span style="color:rgb(0\, 0\, 0)\; font-family:arial\; font-size:12px\; line-height:1.6">He brings with him connections from Wall Street\, to Silicon Valley\, Venture Capital\, Private Equity\, Family Offices\, a Hedge Fund and Angel investors. He specializes in joint ventures\, strategic alliances\, rollups and reverse mergers.</span></p>\n\n<p><span style="color:rgb(0\, 0\, 0)\; font-family:arial\; font-size:12px\; line-height:1.6">As a serial entrepreneur\, Michael has built 4 businesses\, sold 3 of them\, and has authored 3 books.<br />\n<br />\nFree for DaVinci Members\, $10 for Non-Members<br />\n<a href="http://bit.ly/SeptSUJ">Click here to register!</a><br />\n<a href="http://bit.ly/SeptSUJfb">Let us know that you will be attending on Facebook!</a></span></p>\n\n<div>&nbsp\;</div>\n
LOCATION:DaVinci Institute 9191 N. Sheridan Blvd\, Ste 300 ?Westminster\, CO 80031
UID:e.2690.2732
SEQUENCE:3
DTSTAMP:20260422T084112Z
URL:https://www.westminsterchamber.biz/events/details/member-event-startup-junkie-secret-business-funding-techniques-from-colorado-s-funding-expert-2732
END:VEVENT

END:VCALENDAR
