BEGIN:VCALENDAR
VERSION:2.0
PRODID:-//ChamberMaster//Event Calendar 2.0//EN
METHOD:PUBLISH
X-PUBLISHED-TTL:P3D
REFRESH-INTERVAL:P3D
CALSCALE:GREGORIAN
BEGIN:VEVENT
DTSTART:20160614T180000Z
DTEND:20160614T190000Z
X-MICROSOFT-CDO-ALLDAYEVENT:FALSE
SUMMARY:Member Event: The ABC's of Medicare Supplements: Lunch N Learn
DESCRIPTION:THE ABC'S OF MEDICARE SUPPLEMENTS\n\n \n\nJoin Professors Medicare\, Craig Stout and Donna Ludington as they\n\nexplain:\n\n \n\nWhen to Enroll and How to do so\n\nThe parts of Medicare\n\nYour 3 big choices of coverage\n\nTrue costs of Medicare\n\nHow to make the best decision for coverages and costs\n\nGet all your questions answered\n\nNo product pitches \n\n \n\nRSVP 303-885-2725 or 303-882-1891
X-ALT-DESC;FMTTYPE=text/html:<p align="LEFT" dir="LTR"><span lang="EN">THE ABC&rsquo\;S OF MEDICARE SUPPLEMENTS</span></p>\n\n<p align="LEFT" dir="LTR">&nbsp\;</p>\n\n<p align="LEFT" dir="LTR"><font face="Arial">Join Professors Medicare\, Craig Stout and Donna Ludington as they</font></p>\n\n<p align="LEFT" dir="LTR"><font face="Arial">explain:</font></p>\n\n<p align="LEFT" dir="LTR">&nbsp\;</p>\n\n<p align="LEFT" dir="LTR"><font face="Arial">When to Enroll and How to do so</font></p>\n\n<p align="LEFT" dir="LTR"><font face="Arial">The parts of Medicare</font></p>\n\n<p align="LEFT" dir="LTR"><font face="Arial">Your 3 big choices of coverage</font></p>\n\n<p align="LEFT" dir="LTR"><font face="Arial">True costs of Medicare</font></p>\n\n<p align="LEFT" dir="LTR"><font face="Arial">How to make the best decision for coverages and costs</font></p>\n\n<p align="LEFT" dir="LTR"><font face="Arial">Get all your questions answered</font></p>\n\n<p align="LEFT" dir="LTR"><font face="Arial">No product pitches </font></p>\n\n<p align="LEFT" dir="LTR">&nbsp\;</p>\n\n<p align="LEFT" dir="LTR"><b><font color="#ff0000" face="Arial"><font color="#ff0000" face="Arial">RSVP 303-885-2725 or 303-882-1891</font></font></b></p>\n
LOCATION:Westmoor Conference Center Bldg 3/ Training Room 10155 Westmoor Drive Westminster\, CO 80021
UID:e.2690.2442
SEQUENCE:3
DTSTAMP:20260422T152054Z
URL:https://www.westminsterchamber.biz/events/details/member-event-the-abc-s-of-medicare-supplements-lunch-n-learn-06-14-2016-2442
END:VEVENT

END:VCALENDAR
