BEGIN:VCALENDAR
VERSION:2.0
PRODID:-//ChamberMaster//Event Calendar 2.0//EN
METHOD:PUBLISH
X-PUBLISHED-TTL:P3D
REFRESH-INTERVAL:P3D
CALSCALE:GREGORIAN
BEGIN:VEVENT
DTSTART:20161029T180000Z
DTEND:20161029T220000Z
X-MICROSOFT-CDO-ALLDAYEVENT:FALSE
SUMMARY:Member Event: Trick or Treat & Costume Party at Pinot's Palette!
DESCRIPTION:Bring your kiddos on October 29th for Trick or Treating from 12-2PM then stay for our costume painting party from 2-4PM. We will have games prizes and more! Come in costume! Sign up here: https://www.pinotspalette.com/westminsternorth/event/121959
X-ALT-DESC;FMTTYPE=text/html:Bring your kiddos on October 29th for Trick or Treating from 12-2PM then stay for our costume painting party from 2-4PM. We will have games prizes and more! Come in costume! Sign up here: https://www.pinotspalette.com/westminsternorth/event/121959
LOCATION:14315 Orchard Parkway\, Ste. 200 Westminster\, CO 80023 (303)451-0337
UID:e.2690.2748
SEQUENCE:3
DTSTAMP:20260422T070433Z
URL:https://www.westminsterchamber.biz/events/details/member-event-trick-or-treat-costume-party-at-pinot-s-palette-2748
END:VEVENT

END:VCALENDAR
