BEGIN:VCALENDAR
VERSION:2.0
PRODID:-//ChamberMaster//Event Calendar 2.0//EN
METHOD:PUBLISH
X-PUBLISHED-TTL:P3D
REFRESH-INTERVAL:P3D
CALSCALE:GREGORIAN
BEGIN:VEVENT
DTSTART:20160930T003000Z
DTEND:20160930T023000Z
X-MICROSOFT-CDO-ALLDAYEVENT:FALSE
SUMMARY:Member Event: Using LinkedIn To Improve Your Job-Finding Skills & Grow Your Network
DESCRIPTION:You've probably heard of LinkedIn. Maybe you even have a profile and have started to add some connections. But now what? Maybe you've asked yourself questions like:\n\n\n	\n	What is LinkedIn?\n	\n	\n	Why your LinkedIn profile is more important than your resume!\n	\n	\n	How to grow your LinkedIn network?\n	\n	\n	How do I use LinkedIn to find employers and how will employers use it to find me?\n	\n	\n	Why are all the recruiters using LinkedIn?\n	\n	\n	Does anyone even care about this?\n	\n\n\n \n\nWe'll cover this and much more in this interactive workshop. We will give you a basic overview on how to use LinkedIn\, setting up a profile\, using it to promote your business\, connect with potential employers and market your brand & products. During this workshop we will explore a number of topics such as:\n\n\n	\n	LinkedIn overview - what is it\, why should I be on it\n	\n	\n	Creating or improving your profile \n	\n	\n	Do's & Don'ts of LinkedIn\n	\n	\n	Groups and what role they play\n	\n	\n	Sharing content and positioning yourself as a thought leader\n	\n	\n	"Liking" company pages\n	\n	\n	Prospecting on LinkedIn and asking for introductions \n	\n\n\n**Requirements: Must have a computer or tablet as we will work together in the workshop on LinkedIn.\n\nAbout the instructor:\n\nPhilip "Coach" Pelto is passionate about teaching and coaching and loves to see his friends and clients grow and succeed. As a salesperson he quickly learned that building relationships and working from referrals was the best way to go. With MyFirestorm he is able to spread that idea far and wide.  MyFirestorm works with other business owners and "rainmakers" that are frustrated with the old school ideas of smile and dial or quote and hope. MyFirestorm teaches its members how to build long term strategic partnerships and how to build a solid network of contacts that will send you a steady flow of high quality referrals.  \n \n\nCost: $89 - Non-Members\, $69 - DaVinci Members\n\nRegister for How to Land Your Dream Job AND Use LinkedIn to Improve Your Job-Finding Skills and SAVE $25!
X-ALT-DESC;FMTTYPE=text/html:<p><span style="color:rgb(0\, 0\, 0)\; font-family:arial\; font-size:13.3333px">You&rsquo\;ve probably heard of LinkedIn. Maybe you even have a profile and have started to add some connections. But now what? Maybe you&rsquo\;ve asked yourself questions like:</span></p>\n\n<ul>\n	<li>\n	<p><span style="font-size:13.3333px">What is LinkedIn?</span></p>\n	</li>\n	<li>\n	<p><span style="font-size:13.3333px">Why your LinkedIn profile is more important than your resume!</span></p>\n	</li>\n	<li>\n	<p><span style="font-size:13.3333px">How to grow your LinkedIn network?</span></p>\n	</li>\n	<li>\n	<p><span style="font-size:13.3333px">How do I use LinkedIn to find employers and how will employers use it to find me?</span></p>\n	</li>\n	<li>\n	<p><span style="font-size:13.3333px">Why are all the recruiters using LinkedIn?</span></p>\n	</li>\n	<li>\n	<p><span style="font-size:13.3333px">Does anyone even care about this?</span></p>\n	</li>\n</ul>\n\n<p>&nbsp\;</p>\n\n<p><span style="color:rgb(0\, 0\, 0)\; font-family:arial\; font-size:13.3333px">We&rsquo\;ll cover this and much more in this interactive workshop. We will give you a basic overview on how to use LinkedIn\, setting up a profile\, using it to promote your business\, connect with potential employers and market your brand &amp\; products. During this workshop we will explore a number of topics such as:</span></p>\n\n<ul>\n	<li>\n	<p><span style="font-size:13.3333px">LinkedIn overview - what is it\, why should I be on it</span></p>\n	</li>\n	<li>\n	<p><span style="font-size:13.3333px">Creating or improving your profile </span></p>\n	</li>\n	<li>\n	<p><span style="font-size:13.3333px">Do&rsquo\;s &amp\; Don&rsquo\;ts of LinkedIn</span></p>\n	</li>\n	<li>\n	<p><span style="font-size:13.3333px">Groups and what role they play</span></p>\n	</li>\n	<li>\n	<p><span style="font-size:13.3333px">Sharing content and positioning yourself as a thought leader</span></p>\n	</li>\n	<li>\n	<p><span style="font-size:13.3333px">&quot\;Liking&quot\; company pages</span></p>\n	</li>\n	<li>\n	<p><span style="font-size:13.3333px">Prospecting on LinkedIn and asking for introductions </span></p>\n	</li>\n</ul>\n\n<p><em><strong>**Requirements: </strong><span style="color:rgb(0\, 0\, 0)\; font-family:arial\; font-size:13.3333px">Must have a computer or tablet as we will work together in the workshop on LinkedIn.</span></em></p>\n\n<p><strong>About the instructor:</strong></p>\n\n<p><span style="color:rgb(0\, 0\, 0)\; font-family:arial\; font-size:13.3333px">Philip &quot\;Coach&quot\; Pelto is passionate about teaching and coaching and loves to see his friends and clients grow and succeed. As a salesperson he quickly learned that building relationships and working from referrals was the best way to go. With </span><a href="http://www.myfirestorm.com/" style="text-decoration:none\;"><u>MyFirestorm</u></a><span style="color:rgb(0\, 0\, 0)\; font-family:arial\; font-size:13.3333px"> he is able to spread that idea far and wide. &nbsp\;</span><a href="http://www.myfirestorm.com/" style="text-decoration:none\;"><u>MyFirestorm</u></a><span style="color:rgb(0\, 0\, 0)\; font-family:arial\; font-size:13.3333px"> works with other business owners and &quot\;rainmakers&quot\; that are frustrated with the old school ideas of smile and dial or quote and hope. </span><a href="http://www.myfirestorm.com/" style="text-decoration:none\;"><u>MyFirestorm</u></a><span style="color:rgb(0\, 0\, 0)\; font-family:arial\; font-size:13.3333px"> teaches its members how to build long term strategic partnerships and how to build a solid network of contacts that will send you a steady flow of high quality referrals. &nbsp\;</span></p>\n&nbsp\;\n\n<h3><span style="color:rgb(0\, 0\, 0)\; font-family:arial\; font-size:13.3333px"><strong>Cost: </strong>$89 - Non-Members\,&nbsp\;</span><span style="color:rgb(0\, 0\, 0)\; font-family:arial\; font-size:13.3333px\; line-height:1.2">$69 - DaVinci Members</span><br />\n<span style="color:rgb(0\, 0\, 0)\; font-family:arial\; font-size:13.3333px\; line-height:1.6">Register for <a href="https://www.davinciinstitute.com/colorado-events/#!event/2016/9/24/how-to-land-your-dream-job-using-the-neurology-of-programming">How to Land Your Dream Job</a> <strong>AND</strong> <a href="https://www.davinciinstitute.com/colorado-events/#!event/2016/9/30/using-linkedin-to-improve-your-job-finding-skills-grow-your-network">Use LinkedIn to Improve Your Job-Finding Skills</a> and <strong>SAVE $25</strong>!</span></h3>\n
LOCATION:DaVinci Institute 9191 N. Sheridan Blvd\, Ste 300 Westminister\, CO 80031
UID:e.2690.2730
SEQUENCE:3
DTSTAMP:20260422T095647Z
URL:https://www.westminsterchamber.biz/events/details/member-event-using-linkedin-to-improve-your-job-finding-skills-grow-your-network-2730
END:VEVENT

END:VCALENDAR
