BEGIN:VCALENDAR
VERSION:2.0
PRODID:-//ChamberMaster//Event Calendar 2.0//EN
METHOD:PUBLISH
X-PUBLISHED-TTL:P3D
REFRESH-INTERVAL:P3D
CALSCALE:GREGORIAN
BEGIN:VEVENT
DTSTART:20160429T133000Z
DTEND:20160429T150000Z
X-MICROSOFT-CDO-ALLDAYEVENT:FALSE
SUMMARY:Member Event: Westminster Public Schools Annual Breakfast
DESCRIPTION:Join Westminster Public Schools Foundation and community partners in a Race to the Future to support the students and teachers of Westminster Public Schools.\n\nKeynote Speaker: Karl Mecklenberg
X-ALT-DESC;FMTTYPE=text/html:<p style="font: 16px/24px &quot\;Open Sans&quot\;\, Helvetica\, Arial\, sans-serif\; color: rgb(35\, 49\, 46)\; text-transform: none\; text-indent: 0px\; letter-spacing: normal\; margin-top: 0px\; word-spacing: 0px\; white-space: normal\; box-sizing: border-box\; widows: 1\; font-size-adjust: none\; font-stretch: normal\; -webkit-text-stroke-width: 0px\;">Join Westminster Public Schools Foundation and community partners in a Race to the Future to support the students and teachers of Westminster Public Schools.</p>\n\n<p style="font: 16px/24px &quot\;Open Sans&quot\;\, Helvetica\, Arial\, sans-serif\; color: rgb(35\, 49\, 46)\; text-transform: none\; text-indent: 0px\; letter-spacing: normal\; word-spacing: 0px\; white-space: normal\; box-sizing: border-box\; widows: 1\; font-size-adjust: none\; font-stretch: normal\; -webkit-text-stroke-width: 0px\;">Keynote Speaker: Karl Mecklenberg</p>\n
LOCATION:Westminster Marriott 7000 Church Ranch Blvd Westminster\, CO 80021
UID:e.2690.1519
SEQUENCE:3
DTSTAMP:20260422T171607Z
URL:https://www.westminsterchamber.biz/events/details/member-event-westminster-public-schools-annual-breakfast-04-29-2016-1519
END:VEVENT

END:VCALENDAR
