BEGIN:VCALENDAR
VERSION:2.0
PRODID:-//ChamberMaster//Event Calendar 2.0//EN
METHOD:PUBLISH
X-PUBLISHED-TTL:P3D
REFRESH-INTERVAL:P3D
CALSCALE:GREGORIAN
BEGIN:VEVENT
DTSTART:20160915T003000Z
DTEND:20160915T023000Z
X-MICROSOFT-CDO-ALLDAYEVENT:FALSE
SUMMARY:Member Event: Winning the College Game
DESCRIPTION:There are facts about College and then there are myths about college. The facts would blow you away and myths are just that - myths. Come and find out what you don't know about college so that you can have a realistic expectations\, put all the right things in place so that you and your family are prepared and go into this process with your eyes wide open.\n\n\n\nWhether you have itty bittys and want to get a jumpstart on the process or are further down the line in your education career - you are welcome to attend this free event. \n\n\n\nAs a parent of a Junior in High School\, we were so blessed when we met Carey from Collegiate Crossings. She taught us a lot\, gave us a schedule to get everything done on time\, gave us the tools to win at the College game. I feel so strongly about the value she has given us\, that I couldn't keep her all to myself. I am hosting this event for clients and people in my network - and it is there for you to take advantage of.... so please do! \n\n\n\nPlease use the link listed above to reserve your spot. There is limited seating so reserve your spot early! An rsvp on here will not hold your spot.
X-ALT-DESC;FMTTYPE=text/html:<span style="color:rgb(75\, 79\, 86)\; font-family:helvetica\,arial\,sans-serif\; font-size:14px">There are facts about College and then there are myths about college. The facts would blow you away and myths are just that - myths. Come and find out what you don&#39\;t know about college so that you can have a realistic expectations\, put all the right things in place so that you and your family are prepared and go into this process with your eyes wide open.</span><br />\n<br />\n<span style="color:rgb(75\, 79\, 86)\; font-family:helvetica\,arial\,sans-serif\; font-size:14px">Whether you have itty bittys and want to get a jumpstart on the process or are further down the line in your education career - you are welcome to attend this free event.&nbsp\;</span><br />\n<br />\n<span style="color:rgb(75\, 79\, 86)\; font-family:helvetica\,arial\,sans-serif\; font-size:14px">As a parent of a Junior in High School\, we were so blessed when we met Carey from Collegiate Crossings. She taught us a lot\, gave us a schedule to get everything done on time\, gave us the tools to win at the College game. I feel so strongly about the value she has given us\, that I couldn&#39\;t keep her all to myself. I am hosting this event for clients and people in my network - and it is there for you to take advantage of.... so please do!&nbsp\;</span><br />\n<br />\n<span style="color:rgb(75\, 79\, 86)\; font-family:helvetica\,arial\,sans-serif\; font-size:14px">Please use the link listed above to reserve your spot. There is limited seating so reserve your spot early! An rsvp on here will not hold your spot.</span>
LOCATION:The community room at City Park Recreation Center in Westminster.
UID:e.2690.2720
SEQUENCE:3
DTSTAMP:20260422T083401Z
URL:https://www.westminsterchamber.biz/events/details/member-event-winning-the-college-game-09-14-2016-2720
END:VEVENT

END:VCALENDAR
