BEGIN:VCALENDAR
VERSION:2.0
PRODID:-//ChamberMaster//Event Calendar 2.0//EN
METHOD:PUBLISH
X-PUBLISHED-TTL:P3D
REFRESH-INTERVAL:P3D
CALSCALE:GREGORIAN
BEGIN:VEVENT
DTSTART:20160914T180000Z
DTEND:20160914T191500Z
X-MICROSOFT-CDO-ALLDAYEVENT:FALSE
SUMMARY:Member Event: You're Invited to Westminster Communicators Toasmasters Club Open House!
DESCRIPTION:Join Westminster Communicators Toastmasters Club for our upcoming Open House to learn how to gain confidence and find your voice!
X-ALT-DESC;FMTTYPE=text/html:Join Westminster Communicators Toastmasters Club for our upcoming Open House to learn how to gain confidence and find your voice!
LOCATION:DeVry University\, Room 145 1873 West 122nd Avenue Westminster\, CO 80234
UID:e.2690.2729
SEQUENCE:3
DTSTAMP:20260422T084023Z
URL:https://www.westminsterchamber.biz/events/details/member-event-you-re-invited-to-westminster-communicators-toasmasters-club-open-house-2729
END:VEVENT

END:VCALENDAR
