BEGIN:VCALENDAR
VERSION:2.0
PRODID:-//ChamberMaster//Event Calendar 2.0//EN
METHOD:PUBLISH
X-PUBLISHED-TTL:P3D
REFRESH-INTERVAL:P3D
CALSCALE:GREGORIAN
BEGIN:VEVENT
DTSTART:20160514T140000Z
DTEND:20160514T150000Z
X-MICROSOFT-CDO-ALLDAYEVENT:FALSE
SUMMARY:Member Events: Free Workout Saturdays
DESCRIPTION:Join us for free group workouts every Saturday in May. Open to non-members and members alike! Each participant receives a raffle ticket\, we will be giving away $300 in prizes!
X-ALT-DESC;FMTTYPE=text/html:Join us for free group workouts every Saturday in May. Open to non-members and members alike! Each participant receives a raffle ticket\, we will be giving away $300 in prizes!
LOCATION:Anytime Fitness Westminster 9910 Wadsworth Pkwy Westminster\, CO 80021
UID:e.2690.2174
SEQUENCE:3
DTSTAMP:20260422T151504Z
URL:https://www.westminsterchamber.biz/events/details/member-events-free-workout-saturdays-05-14-2016-2174
END:VEVENT

END:VCALENDAR
