BEGIN:VCALENDAR
VERSION:2.0
PRODID:-//ChamberMaster//Event Calendar 2.0//EN
METHOD:PUBLISH
X-PUBLISHED-TTL:P3D
REFRESH-INTERVAL:P3D
CALSCALE:GREGORIAN
BEGIN:VEVENT
DTSTART:20160606T150000Z
DTEND:20160606T160000Z
X-MICROSOFT-CDO-ALLDAYEVENT:FALSE
SUMMARY:Membership Committee Meeting
DESCRIPTION:The Membership Committee helps to grow the Westminster Chamber by recruiting new members to the Chamber.  The committee also takes a look the benefits of the Westminster Chamber\, helping to advise the Board of Directors on what we offer to our members.
X-ALT-DESC;FMTTYPE=text/html:The Membership Committee helps to grow the Westminster Chamber by recruiting new members to the Chamber.&nbsp\; The committee also takes a look the benefits of the Westminster Chamber\, helping to advise the Board of Directors on what we offer to our members.
LOCATION:This meeting will be held at the DaVinci Institute 9191 Sheridan Blvd #300 Westminster\, CO 80031
UID:e.2690.2305
SEQUENCE:3
DTSTAMP:20260422T151559Z
URL:https://www.westminsterchamber.biz/events/details/membership-committee-meeting-06-06-2016-2305
END:VEVENT

END:VCALENDAR
