BEGIN:VCALENDAR
VERSION:2.0
PRODID:-//ChamberMaster//Event Calendar 2.0//EN
METHOD:PUBLISH
X-PUBLISHED-TTL:P3D
REFRESH-INTERVAL:P3D
CALSCALE:GREGORIAN
BEGIN:VEVENT
DTSTART:20190118T183000Z
DTEND:20190118T200000Z
X-MICROSOFT-CDO-ALLDAYEVENT:FALSE
SUMMARY:Membership Luncheon
DESCRIPTION:Join us for our first membership luncheon of 2019! Hear updates on the Chamber\, welcome some new members\, and listen to our panel of experts. In partnership with the Colorado Women's Alliance.\n\n\n\nDo you ever want to attend a political event or gathering\, post about a particular topic\, or allow groups to use your facility that engage in politics but are worried this may negatively affect you and your business? Listen to panel experts on how they stay engaged as business owners.\n\n\n\nRegistration Closed
X-ALT-DESC;FMTTYPE=text/html:Join us for our first membership luncheon of 2019! Hear updates on the Chamber\, welcome some new members\, and listen to our panel of experts. In partnership with the Colorado Women&#39\;s Alliance.<br />\n<br />\nDo you ever want to attend a political event or gathering\, post about a particular topic\, or allow groups to use your facility that engage in politics but are worried this may negatively affect you and your business? Listen to panel experts on how they stay engaged as business owners.<br />\n<br />\n<span style="color:#FF0000\;"><b><font size="5">Registration Closed</font></b></span>
LOCATION:The Ranch Country Club 11887 Tejon Street Westminster\, CO 80234
UID:e.2690.10498
SEQUENCE:3
DTSTAMP:20260420T080443Z
URL:https://www.westminsterchamber.biz/events/details/membership-luncheon-01-18-2019-10498
END:VEVENT

END:VCALENDAR
