BEGIN:VCALENDAR
VERSION:2.0
PRODID:-//ChamberMaster//Event Calendar 2.0//EN
METHOD:PUBLISH
X-PUBLISHED-TTL:P3D
REFRESH-INTERVAL:P3D
CALSCALE:GREGORIAN
BEGIN:VEVENT
DTSTART:20190713T160000Z
DTEND:20190713T180000Z
X-MICROSOFT-CDO-ALLDAYEVENT:FALSE
SUMMARY:Morning Tea In The Garden
DESCRIPTION:Morning Tea in the Garden\n\nJune 21\, July 13\, August 2\n\n10 to Noon       $15                        Please join us for a lovely morning in our beautiful sculpture garden.  You will be served a full brunch along with tea.  You must call to reserve a seat.   303-426-4114
X-ALT-DESC;FMTTYPE=text/html:<p style="color: rgb(32\, 32\, 32)\; font-family: Helvetica\; font-size: 16px\; font-style: normal\; font-variant: normal\; font-weight: 400\; letter-spacing: normal\; line-height: 150%\; margin-bottom: 10px\; margin-left: 0px\; margin-right: 0px\; margin-top: 10px\; -ms-text-size-adjust: 100%\; orphans: 2\; padding-bottom: 0px\; padding-left: 0px\; padding-right: 0px\; padding-top: 0px\; text-align: left\; text-decoration: none\; text-indent: 0px\; text-transform: none\; -webkit-text-stroke-width: 0px\; white-space: normal\; word-spacing: 0px\;"><strong>Morning Tea in the Garden</strong></p>\n\n<p style="color: rgb(32\, 32\, 32)\; font-family: Helvetica\; font-size: 16px\; font-style: normal\; font-variant: normal\; font-weight: 400\; letter-spacing: normal\; line-height: 150%\; margin-bottom: 10px\; margin-left: 0px\; margin-right: 0px\; margin-top: 10px\; -ms-text-size-adjust: 100%\; orphans: 2\; padding-bottom: 0px\; padding-left: 0px\; padding-right: 0px\; padding-top: 0px\; text-align: left\; text-decoration: none\; text-indent: 0px\; text-transform: none\; -webkit-text-stroke-width: 0px\; white-space: normal\; word-spacing: 0px\;"><strong>June 21\, July 13\, August 2</strong></p>\n\n<p style="color: rgb(32\, 32\, 32)\; font-family: Helvetica\; font-size: 16px\; font-style: normal\; font-variant: normal\; font-weight: 400\; letter-spacing: normal\; line-height: 150%\; margin-bottom: 10px\; margin-left: 0px\; margin-right: 0px\; margin-top: 10px\; -ms-text-size-adjust: 100%\; orphans: 2\; padding-bottom: 0px\; padding-left: 0px\; padding-right: 0px\; padding-top: 0px\; text-align: left\; text-decoration: none\; text-indent: 0px\; text-transform: none\; -webkit-text-stroke-width: 0px\; white-space: normal\; word-spacing: 0px\;"><strong>10 to Noon &nbsp\; &nbsp\; &nbsp\; $15&nbsp\; &nbsp\; &nbsp\; &nbsp\; &nbsp\; &nbsp\; &nbsp\; &nbsp\; &nbsp\; &nbsp\; &nbsp\; &nbsp\; </strong>Please join us for a lovely morning in our beautiful sculpture garden.&nbsp\; You will be served a full brunch along with tea.&nbsp\; You must call to reserve a seat. &nbsp\; 303-426-4114</p>\n
LOCATION:AAR River Gallery 3707 W. 73rd Ave. Westminster\, CO 80030
UID:e.2690.11067
SEQUENCE:3
DTSTAMP:20260420T010832Z
URL:https://www.westminsterchamber.biz/events/details/morning-tea-in-the-garden-11067
END:VEVENT

END:VCALENDAR
