BEGIN:VCALENDAR
VERSION:2.0
PRODID:-//ChamberMaster//Event Calendar 2.0//EN
METHOD:PUBLISH
X-PUBLISHED-TTL:P3D
REFRESH-INTERVAL:P3D
CALSCALE:GREGORIAN
BEGIN:VEVENT
DTSTART;VALUE=DATE:20170507
DTEND;VALUE=DATE:20170514
TRANSP:TRANSPARENT
X-MICROSOFT-CDO-ALLDAYEVENT:TRUE
SUMMARY:National Travel & Tourism Week
DESCRIPTION:National Travel and Tourism Week 2017 takes place May 7-13. Want to be a part of our exciting effort to support this huge industry? Email us your interest so we can sign you up for exclusive activities throughout the week.
X-ALT-DESC;FMTTYPE=text/html:<span style="color: rgb(41\, 41\, 41)\; font-family: Merriweather\, &quot\;Times New Roman&quot\;\, Times\, serif\; font-size: 15px\;">National Travel and Tourism Week 2017 takes place May 7-13. Want to be a part of our exciting effort to support this huge industry? Email us your interest so we can sign you up for exclusive activities throughout the week.</span>&nbsp\;&nbsp\;&nbsp\;&nbsp\;
LOCATION:Citywide
UID:e.2690.5003
SEQUENCE:3
DTSTAMP:20260421T184243Z
URL:https://www.westminsterchamber.biz/events/details/national-travel-tourism-week-5003
END:VEVENT

END:VCALENDAR
