BEGIN:VCALENDAR
VERSION:2.0
PRODID:-//ChamberMaster//Event Calendar 2.0//EN
METHOD:PUBLISH
X-PUBLISHED-TTL:P3D
REFRESH-INTERVAL:P3D
CALSCALE:GREGORIAN
BEGIN:VEVENT
DTSTART:20260426T160000Z
DTEND:20260426T190000Z
X-MICROSOFT-CDO-ALLDAYEVENT:FALSE
SUMMARY:Pollinator Gardening Bootcamp 2026 (Member Event)
DESCRIPTION:Join Butterfly Pavilion's Pollinator Gardening Bootcamp to gain the knowledge and skills needed to create thriving habitats for pollinators. You can pick and choose the workshops that interest you most or register for all five workshops as a bundle to unlock savings! Through this engaging series\, you'll enjoy: Educational lectures Hands-on outdoor activities Interactive learning with gardening enthusiasts and expert horticulturists Whether you're new to pollinators or an experienced gardener\, you'll leave empowered to make a positive impact on your home\, community\, and environment.
X-ALT-DESC;FMTTYPE=text/html:Join Butterfly Pavilion&rsquo\;s Pollinator Gardening Bootcamp to gain the knowledge and skills needed to create thriving habitats for pollinators. You can pick and choose the workshops that interest you most&mdash\;or register for all five workshops as a bundle to unlock savings! Through this engaging series\, you&rsquo\;ll enjoy: Educational lectures Hands-on outdoor activities Interactive learning with gardening enthusiasts and expert horticulturists Whether you&rsquo\;re new to pollinators or an experienced gardener\, you&rsquo\;ll leave empowered to make a positive impact on your home\, community\, and environment.
LOCATION:Butterfly Pavilion 6252 West 104th Ave. Westminster\, CO. 80020
UID:e.2690.22310
SEQUENCE:3
DTSTAMP:20260423T091119Z
URL:https://www.westminsterchamber.biz/events/details/pollinator-gardening-bootcamp-2026-member-event-22310
END:VEVENT

END:VCALENDAR
