BEGIN:VCALENDAR
VERSION:2.0
PRODID:-//ChamberMaster//Event Calendar 2.0//EN
METHOD:PUBLISH
X-PUBLISHED-TTL:P3D
REFRESH-INTERVAL:P3D
CALSCALE:GREGORIAN
BEGIN:VEVENT
DTSTART:20181006T190000Z
DTEND:20181006T200000Z
X-MICROSOFT-CDO-ALLDAYEVENT:FALSE
SUMMARY:Rare Liquor Live Auction at Total Beverage
DESCRIPTION:It's that time of year again for the Live Rare Liquor Auction at Total Beverage! Join the fun and bid on the rarest whiskeys available - your donations will benefit St. Jude Children's Research Hospital.
X-ALT-DESC;FMTTYPE=text/html:<span style="background-color:transparent\; color:rgb(0\, 0\, 0)\; font-family:arial\; font-size:11pt">It&rsquo\;s that time of year again for the Live Rare Liquor Auction at Total Beverage! Join the fun and bid on the rarest whiskeys available - your donations will benefit St. Jude Children&rsquo\;s Research Hospital. </span>
LOCATION:Total Beverage Thornton
UID:e.2690.7824
SEQUENCE:3
DTSTAMP:20260420T130443Z
URL:https://www.westminsterchamber.biz/events/details/rare-liquor-live-auction-at-total-beverage-7824
END:VEVENT

END:VCALENDAR
