BEGIN:VCALENDAR
VERSION:2.0
PRODID:-//ChamberMaster//Event Calendar 2.0//EN
METHOD:PUBLISH
X-PUBLISHED-TTL:P3D
REFRESH-INTERVAL:P3D
CALSCALE:GREGORIAN
BEGIN:VEVENT
DTSTART:20161118T000000Z
DTEND:20161118T010000Z
X-MICROSOFT-CDO-ALLDAYEVENT:FALSE
SUMMARY:Renew U Med Spa - Official Ribbon Cutting!
DESCRIPTION:Renew U Med Spa is holding an official ribbon cutting for their new location!  Stop by and check out all that they have to offer in their brand new space.
X-ALT-DESC;FMTTYPE=text/html:Renew U Med Spa is holding an official ribbon cutting for their new location!&nbsp\; Stop by and check out all that they have to offer in their brand new space.
LOCATION:80 Garden Center #131 Broomfield\, CO\, 80020
UID:e.2690.2749
SEQUENCE:3
DTSTAMP:20260422T064240Z
URL:https://www.westminsterchamber.biz/events/details/renew-u-med-spa-official-ribbon-cutting-2749
END:VEVENT

END:VCALENDAR
