BEGIN:VCALENDAR
VERSION:2.0
PRODID:-//ChamberMaster//Event Calendar 2.0//EN
METHOD:PUBLISH
X-PUBLISHED-TTL:P3D
REFRESH-INTERVAL:P3D
CALSCALE:GREGORIAN
BEGIN:VEVENT
DTSTART:20180814T170000Z
DTEND:20180814T173000Z
X-MICROSOFT-CDO-ALLDAYEVENT:FALSE
SUMMARY:Ribbon Cutting: Area Party and Costumes
DESCRIPTION:Join us for a ribbon cutting celebration at Area Party and Costumes!
X-ALT-DESC;FMTTYPE=text/html:Join us for a ribbon cutting celebration at Area Party and Costumes!&nbsp\;
LOCATION:Area Party and Costumes 7930 North Federal Blvd. Westminster\, CO
UID:e.2690.6818
SEQUENCE:3
DTSTAMP:20260420T163931Z
URL:https://www.westminsterchamber.biz/events/details/ribbon-cutting-area-party-and-costumes-6818
END:VEVENT

END:VCALENDAR
