BEGIN:VCALENDAR
VERSION:2.0
PRODID:-//ChamberMaster//Event Calendar 2.0//EN
METHOD:PUBLISH
X-PUBLISHED-TTL:P3D
REFRESH-INTERVAL:P3D
CALSCALE:GREGORIAN
BEGIN:VEVENT
DTSTART:20160824T223000Z
DTEND:20160825T000000Z
X-MICROSOFT-CDO-ALLDAYEVENT:FALSE
SUMMARY:Ribbon Cutting at Community Reach Center
DESCRIPTION:Join us in celebrating the opening of the new Community Reach Center Community Campus with an open house and flag raising ceremony.\n\n\n\nShowcasing their mission to enhance the health of our community\, the ceremony represents a new chapter for Community Reach Center - streamlined business functions\, increased clinical space\, and more quality care for the communities they serve.\n\n\n\nLight refreshments will be served.  Ceremony and remarks at 5:15pm.
X-ALT-DESC;FMTTYPE=text/html:Join us in celebrating the opening of the new Community Reach Center Community Campus with an open house and flag raising ceremony.<br />\n<br />\nShowcasing their mission to enhance the health of our community\, the ceremony represents a new chapter for Community Reach Center - streamlined business functions\, increased clinical space\, and more quality care for the communities they serve.<br />\n<br />\nLight refreshments will be served.&nbsp\; Ceremony and remarks at 5:15pm.
LOCATION:Community Reach Center 1870 W 122nd Avenue Westminster\, CO 80234
UID:e.2690.2727
SEQUENCE:3
DTSTAMP:20260422T095820Z
URL:https://www.westminsterchamber.biz/events/details/ribbon-cutting-at-community-reach-center-08-24-2016-2727
END:VEVENT

END:VCALENDAR
