BEGIN:VCALENDAR
VERSION:2.0
PRODID:-//ChamberMaster//Event Calendar 2.0//EN
METHOD:PUBLISH
X-PUBLISHED-TTL:P3D
REFRESH-INTERVAL:P3D
CALSCALE:GREGORIAN
BEGIN:VEVENT
DTSTART;VALUE=DATE:20180815
DTEND;VALUE=DATE:20180816
TRANSP:TRANSPARENT
X-MICROSOFT-CDO-ALLDAYEVENT:TRUE
SUMMARY:Ribbon Cutting : Caliber at Hyland Village Apartments : Coming Soon
DESCRIPTION:
X-ALT-DESC;FMTTYPE=text/html:
LOCATION:
UID:e.2690.7955
SEQUENCE:3
DTSTAMP:20260420T164030Z
URL:https://www.westminsterchamber.biz/events/details/ribbon-cutting-caliber-at-hyland-village-apartments-coming-soon-7955
END:VEVENT

END:VCALENDAR
