BEGIN:VCALENDAR
VERSION:2.0
PRODID:-//ChamberMaster//Event Calendar 2.0//EN
METHOD:PUBLISH
X-PUBLISHED-TTL:P3D
REFRESH-INTERVAL:P3D
CALSCALE:GREGORIAN
BEGIN:VEVENT
DTSTART:20180426T173000Z
DTEND:20180426T180000Z
X-MICROSOFT-CDO-ALLDAYEVENT:FALSE
SUMMARY:Ribbon Cutting: Christian Brothers Automotive – Westminster
DESCRIPTION:Join us for a ribbon cutting and grand opening celebration of Christian Brothers Automotive - Westminster.
X-ALT-DESC;FMTTYPE=text/html:Join us for a ribbon cutting and grand opening celebration of Christian Brothers Automotive - Westminster.
LOCATION:8515 West 100th Avenue Westminster\, CO 80021
UID:e.2690.6770
SEQUENCE:3
DTSTAMP:20260421T001342Z
URL:https://www.westminsterchamber.biz/events/details/ribbon-cutting-christian-brothers-automotive-westminster-6770
END:VEVENT

END:VCALENDAR
