BEGIN:VCALENDAR
VERSION:2.0
PRODID:-//ChamberMaster//Event Calendar 2.0//EN
METHOD:PUBLISH
X-PUBLISHED-TTL:P3D
REFRESH-INTERVAL:P3D
CALSCALE:GREGORIAN
BEGIN:VEVENT
DTSTART:20171212T183000Z
DTEND:20171212T190000Z
X-MICROSOFT-CDO-ALLDAYEVENT:FALSE
SUMMARY:Ribbon Cutting: Colorado Center for Animal Pain Management & Rehab
DESCRIPTION:Help us welcome Colorado Center for Animal Pain Management & Rehabilitation to our Chamber and business community. Join us for a Ribbon Cutting at their location.
X-ALT-DESC;FMTTYPE=text/html:Help us welcome Colorado Center for Animal Pain Management &amp\; Rehabilitation to our Chamber and business community. Join us for a Ribbon Cutting at their location.
LOCATION:4750 West 120th Avenue\, Suite 400 Westminster\, CO 80020
UID:e.2690.5604
SEQUENCE:3
DTSTAMP:20260421T071024Z
URL:https://www.westminsterchamber.biz/events/details/ribbon-cutting-colorado-center-for-animal-pain-management-rehab-5604
END:VEVENT

END:VCALENDAR
