BEGIN:VCALENDAR
VERSION:2.0
PRODID:-//ChamberMaster//Event Calendar 2.0//EN
METHOD:PUBLISH
X-PUBLISHED-TTL:P3D
REFRESH-INTERVAL:P3D
CALSCALE:GREGORIAN
BEGIN:VEVENT
DTSTART:20190725T220000Z
DTEND:20190725T223000Z
X-MICROSOFT-CDO-ALLDAYEVENT:FALSE
SUMMARY:Ribbon Cutting - Comcast
DESCRIPTION:Help welcome Comcast to our business community!
X-ALT-DESC;FMTTYPE=text/html:Help welcome Comcast to our business community!
LOCATION:Comcast 14452 Orchard Parkway\, Suite 200 Westminster\, CO 80023
UID:e.2690.11603
SEQUENCE:3
DTSTAMP:20260420T005602Z
URL:https://www.westminsterchamber.biz/events/details/ribbon-cutting-comcast-11603
END:VEVENT

END:VCALENDAR
