BEGIN:VCALENDAR
VERSION:2.0
PRODID:-//ChamberMaster//Event Calendar 2.0//EN
METHOD:PUBLISH
X-PUBLISHED-TTL:P3D
REFRESH-INTERVAL:P3D
CALSCALE:GREGORIAN
BEGIN:VEVENT
DTSTART:20160623T233000Z
DTEND:20160624T003000Z
X-MICROSOFT-CDO-ALLDAYEVENT:FALSE
SUMMARY:Ribbon Cutting: Community Connect Trade Assocation
DESCRIPTION:Please join us as we cut a ribbon for Community Connect Trade Association.\n\nWe will cut the ribbon at 6pm.\n\n\n\nIn addition to welcoming in our new member\, Ribbon Cuttings are a great networking event for you to meet new business professionals and promote your business.
X-ALT-DESC;FMTTYPE=text/html:Please join us as we cut a ribbon for Community Connect Trade Association.<br />\nWe will cut the ribbon at 6pm.<br />\n<br />\nIn addition to welcoming in our new member\, Ribbon Cuttings are a great networking event for you to meet new business professionals and promote your business.
LOCATION:Community Connect Trade Association 8774 Yates Drive #105 Westminster\, Colorado 80031
UID:e.2690.2434
SEQUENCE:3
DTSTAMP:20260422T133504Z
URL:https://www.westminsterchamber.biz/events/details/ribbon-cutting-community-connect-trade-assocation-06-23-2016-2434
END:VEVENT

END:VCALENDAR
