BEGIN:VCALENDAR
VERSION:2.0
PRODID:-//ChamberMaster//Event Calendar 2.0//EN
METHOD:PUBLISH
X-PUBLISHED-TTL:P3D
REFRESH-INTERVAL:P3D
CALSCALE:GREGORIAN
BEGIN:VEVENT
DTSTART:20170622T220000Z
DTEND:20170623T000000Z
X-MICROSOFT-CDO-ALLDAYEVENT:FALSE
SUMMARY:Ribbon Cutting: Country Financial
DESCRIPTION:Join us to welcome our newest member to the Chamber and to her new office location!
X-ALT-DESC;FMTTYPE=text/html:Join us to welcome our newest member to the Chamber and to her new office location!&nbsp\;
LOCATION:9191 Sheridan Blvd. Suite 202 Westminster\, CO 80031
UID:e.2690.5414
SEQUENCE:3
DTSTAMP:20260421T184438Z
URL:https://www.westminsterchamber.biz/events/details/ribbon-cutting-country-financial-5414
END:VEVENT

END:VCALENDAR
