BEGIN:VCALENDAR
VERSION:2.0
PRODID:-//ChamberMaster//Event Calendar 2.0//EN
METHOD:PUBLISH
X-PUBLISHED-TTL:P3D
REFRESH-INTERVAL:P3D
CALSCALE:GREGORIAN
BEGIN:VEVENT
DTSTART:20171128T233000Z
DTEND:20171129T000000Z
X-MICROSOFT-CDO-ALLDAYEVENT:FALSE
SUMMARY:Ribbon Cutting\; Denver School of Massage Therapy
DESCRIPTION:Ribbon Cutting for our new Chamber Member Denver School of Massage Therapy. Join us to welcome them to the business community.
X-ALT-DESC;FMTTYPE=text/html:Ribbon Cutting for our new Chamber Member Denver School of Massage Therapy. Join us to welcome them to the business community.&nbsp\;
LOCATION:8991 Harlan Street Westminster\, CO
UID:e.2690.5599
SEQUENCE:3
DTSTAMP:20260421T090044Z
URL:https://www.westminsterchamber.biz/events/details/ribbon-cutting-denver-school-of-massage-therapy-5599
END:VEVENT

END:VCALENDAR
