BEGIN:VCALENDAR
VERSION:2.0
PRODID:-//ChamberMaster//Event Calendar 2.0//EN
METHOD:PUBLISH
X-PUBLISHED-TTL:P3D
REFRESH-INTERVAL:P3D
CALSCALE:GREGORIAN
BEGIN:VEVENT
DTSTART:20180208T173000Z
DTEND:20180208T180000Z
X-MICROSOFT-CDO-ALLDAYEVENT:FALSE
SUMMARY:Ribbon Cutting: Edward Jones
DESCRIPTION:Ribbon Cutting to welcome Edward Jones Agent - Duncan Reidner to our business community!
X-ALT-DESC;FMTTYPE=text/html:Ribbon Cutting to welcome Edward Jones Agent - Duncan Reidner to our business community!
LOCATION:Chamber 9191 Sheridan Blvd. Suite 300 Westminster\, CO 80031
UID:e.2690.6634
SEQUENCE:3
DTSTAMP:20260421T034836Z
URL:https://www.westminsterchamber.biz/events/details/ribbon-cutting-edward-jones-6634
END:VEVENT

END:VCALENDAR
