BEGIN:VCALENDAR
VERSION:2.0
PRODID:-//ChamberMaster//Event Calendar 2.0//EN
METHOD:PUBLISH
X-PUBLISHED-TTL:P3D
REFRESH-INTERVAL:P3D
CALSCALE:GREGORIAN
BEGIN:VEVENT
DTSTART:20171020T230000Z
DTEND:20171020T233000Z
X-MICROSOFT-CDO-ALLDAYEVENT:FALSE
SUMMARY:Ribbon Cutting: Fyzical Therapy & Balance Centers
DESCRIPTION:Help us welcome one of our newer members to the Chamber! Join us for a ribbon cutting celebration.
X-ALT-DESC;FMTTYPE=text/html:Help us welcome one of our newer members to the Chamber! Join us for a ribbon cutting celebration.
LOCATION:Fyzical Therapy & Balance Centers 12207 North Pecos Street\, Suite 600 Westminster\, CO 80234
UID:e.2690.5582
SEQUENCE:3
DTSTAMP:20260421T123203Z
URL:https://www.westminsterchamber.biz/events/details/ribbon-cutting-fyzical-therapy-balance-centers-5582
END:VEVENT

END:VCALENDAR
