BEGIN:VCALENDAR
VERSION:2.0
PRODID:-//ChamberMaster//Event Calendar 2.0//EN
METHOD:PUBLISH
X-PUBLISHED-TTL:P3D
REFRESH-INTERVAL:P3D
CALSCALE:GREGORIAN
BEGIN:VEVENT
DTSTART:20160412T233000Z
DTEND:20160413T003000Z
X-MICROSOFT-CDO-ALLDAYEVENT:FALSE
SUMMARY:Ribbon Cutting: GQue Champion BBQ
DESCRIPTION:Your Westminster Chamber of Commerce would like to welcome GQue Champion BBQ into our community.  Please join us for a Ribbon Cutting networking event!  We will cut the ribbon with them at 6:00pm.
X-ALT-DESC;FMTTYPE=text/html:Your Westminster Chamber of Commerce would like to welcome GQue&nbsp\;Champion BBQ into our community. &nbsp\;Please join us for a Ribbon Cutting networking&nbsp\;event! &nbsp\;We will cut the ribbon with them at 6:00pm.
LOCATION:GQue Championship BBQ 5160 W 120th Ave Unit K Westminster\, CO 80020
UID:e.2690.1504
SEQUENCE:3
DTSTAMP:20260422T190104Z
URL:https://www.westminsterchamber.biz/events/details/ribbon-cutting-gque-champion-bbq-04-12-2016-1504
END:VEVENT

END:VCALENDAR
