BEGIN:VCALENDAR
VERSION:2.0
PRODID:-//ChamberMaster//Event Calendar 2.0//EN
METHOD:PUBLISH
X-PUBLISHED-TTL:P3D
REFRESH-INTERVAL:P3D
CALSCALE:GREGORIAN
BEGIN:VEVENT
DTSTART:20190508T220000Z
DTEND:20190508T223000Z
X-MICROSOFT-CDO-ALLDAYEVENT:FALSE
SUMMARY:Ribbon Cutting - Mile High Tax & Accounting
DESCRIPTION:Join us for a ribbon cutting celebration to welcome Mile High Tax & Accounting to our business community! Light snacks and refreshments provided.
X-ALT-DESC;FMTTYPE=text/html:Join us for a ribbon cutting celebration to welcome Mile High Tax &amp\; Accounting to our business community! Light snacks and refreshments provided.&nbsp\;
LOCATION:Mile High Tax & Accounting 8774 Yates Drive - 3rd Floor Westminster\, CO 80031
UID:e.2690.10906
SEQUENCE:3
DTSTAMP:20260420T011155Z
URL:https://www.westminsterchamber.biz/events/details/ribbon-cutting-mile-high-tax-accounting-10906
END:VEVENT

END:VCALENDAR
