BEGIN:VCALENDAR
VERSION:2.0
PRODID:-//ChamberMaster//Event Calendar 2.0//EN
METHOD:PUBLISH
X-PUBLISHED-TTL:P3D
REFRESH-INTERVAL:P3D
CALSCALE:GREGORIAN
BEGIN:VEVENT
DTSTART:20190715T223000Z
DTEND:20190715T230000Z
X-MICROSOFT-CDO-ALLDAYEVENT:FALSE
SUMMARY:Ribbon Cutting: Morning Story
DESCRIPTION:Celebrate the rebrand and renovation of Morning Story Restaurants at the corner of 80th and Sheridan. Food along with adult and non-alcoholic beverages are available.
X-ALT-DESC;FMTTYPE=text/html:Celebrate the rebrand and renovation of Morning Story Restaurants at the corner of 80th and Sheridan. Food along with adult and non-alcoholic beverages are available.&nbsp\;
LOCATION:Morning Story Restaurants 8025 Sheridan Blvd. Arvada\, CO
UID:e.2690.11477
SEQUENCE:3
DTSTAMP:20260420T024246Z
URL:https://www.westminsterchamber.biz/events/details/ribbon-cutting-morning-story-11477
END:VEVENT

END:VCALENDAR
