BEGIN:VCALENDAR
VERSION:2.0
PRODID:-//ChamberMaster//Event Calendar 2.0//EN
METHOD:PUBLISH
X-PUBLISHED-TTL:P3D
REFRESH-INTERVAL:P3D
CALSCALE:GREGORIAN
BEGIN:VEVENT
DTSTART:20160727T233000Z
DTEND:20160728T003000Z
X-MICROSOFT-CDO-ALLDAYEVENT:FALSE
SUMMARY:Ribbon Cutting: Pinot's Palette
DESCRIPTION:Please join us as we cut a ribbon for Pinot's Palette.\n\nWe will cut the ribbon at 5:30 pm.\n\n\n\nIn addition to welcoming in our new member\, Ribbon Cuttings are a great networking event for you to meet new business professionals and promote your business.\n\n\n\n* Bring your appetite - wine and refreshments will be served\n\n* Bring your creativity - small canvases will be available for your own unique paintings\n\n* Bring your business cards - you'll be meeting lots of community at Pinot's Palette\nMore information available here: \n\n https://www.pinotspalette.com/westminsternorth/event/105044
X-ALT-DESC;FMTTYPE=text/html:Please join us as we cut a ribbon for Pinot&#39\;s Palette.<br />\nWe will cut the ribbon at 5:30 pm.<br />\n<br />\nIn addition to welcoming in our new member\, Ribbon Cuttings are a great networking event for you to meet new business professionals and promote your business.<br />\n<br />\n* Bring your appetite - wine and refreshments&nbsp\;will be served<br />\n* Bring your creativity - small canvases will be available for your own unique paintings<br />\n* Bring your business cards - you&#39\;ll be meeting lots of community at Pinot&#39\;s Palette\n<p style="background:white"><span style="font-size:12px\;"><span style="font-family:arial\;"><span style="color: rgb(0\, 111\, 201)\;">More information available here:&nbsp\;</span></span></span></p>\n\n<p style="background:white"><span style="font-size:12px\;"><span style="font-family: Calibri\, sans-serif\; color: rgb(0\, 111\, 201)\;"><span style="font-family:arial\;">&nbsp\;<a href="https://www.pinotspalette.com/westminsternorth/event/105044" id="LPlnk345098">https://www.pinotspalette.com/westminsternorth/event/105044</a></span></span></span><span style="font-size:14.0pt\;font-family:&quot\;Calibri&quot\;\,sans-serif\;\ncolor:#006FC9"><o:p></o:p></span></p>\n
LOCATION:Pinot's Palette 14315 Orchard Parkway Westminster CO 80023
UID:e.2690.2707
SEQUENCE:3
DTSTAMP:20260422T113840Z
URL:https://www.westminsterchamber.biz/events/details/ribbon-cutting-pinot-s-palette-07-27-2016-2707
END:VEVENT

END:VCALENDAR
