BEGIN:VCALENDAR
VERSION:2.0
PRODID:-//ChamberMaster//Event Calendar 2.0//EN
METHOD:PUBLISH
X-PUBLISHED-TTL:P3D
REFRESH-INTERVAL:P3D
CALSCALE:GREGORIAN
BEGIN:VEVENT
DTSTART:20160421T233000Z
DTEND:20160422T003000Z
X-MICROSOFT-CDO-ALLDAYEVENT:FALSE
SUMMARY:Ribbon Cutting: Sport Clips
DESCRIPTION:Your Westminster Chamber of Commerce would like to welcome new business Sport Clips to our community.  Please join us for their Ribbon Cutting and networking event!  We will cut the ribbon with them at 6:00pm
X-ALT-DESC;FMTTYPE=text/html:Your Westminster Chamber of Commerce would like to welcome new business Sport Clips to our community. &nbsp\;Please join us for their Ribbon Cutting and networking event! &nbsp\;We will cut the ribbon with them at 6:00pm
LOCATION:Sport Clips 7953 Wadsworth Blvd Arvada\, CO 80003 United States
UID:e.2690.1505
SEQUENCE:3
DTSTAMP:20260422T171458Z
URL:https://www.westminsterchamber.biz/events/details/ribbon-cutting-sport-clips-04-21-2016-1505
END:VEVENT

END:VCALENDAR
