BEGIN:VCALENDAR
VERSION:2.0
PRODID:-//ChamberMaster//Event Calendar 2.0//EN
METHOD:PUBLISH
X-PUBLISHED-TTL:P3D
REFRESH-INTERVAL:P3D
CALSCALE:GREGORIAN
BEGIN:VEVENT
DTSTART:20160428T220000Z
DTEND:20160429T020000Z
X-MICROSOFT-CDO-ALLDAYEVENT:FALSE
SUMMARY:Ribbon Cutting: The Center at Northridge
DESCRIPTION:Ribbon Cutting will be at 6pm\nCome celebrate the opening of the newest\, most advanced skilled nursing and physical rehabilitation facility in Westminster\, Colorado. \n\nThe Center at Northridge boasts 96 private rooms\, a 2\,584 square foot gymnasium for physical and occupational therapy\, gourmet food\, flat-screen LED TVs and many other comforts and amenities. More importantly\, The Center at Northridge will implement a proven service delivery model that shortens patients' length of stay\, while producing superior outcomes. \n\nPlease join us. \n\nTHURSDAY\, APRIL 28\, 2016 \n\n4:00PM   8:00PM \n\nHors d'oeuvres & Beverages \n\nPLEASE RSVP
X-ALT-DESC;FMTTYPE=text/html:Ribbon Cutting will be at 6pm\n<p align="LEFT"><font size="4">Come celebrate the opening of the newest\, most advanced skilled nursing and physical rehabilitation facility in Westminster\, Colorado. </font></p>\n\n<p><font size="4">The Center at Northridge boasts 96 private rooms\, a 2\,584 square foot gymnasium for physical and occupational therapy\, gourmet food\, flat-screen LED TVs and many other comforts and amenities. More importantly\, The Center at Northridge will implement a proven service delivery model that shortens patients&rsquo\; length of stay\, while producing superior outcomes. </font></p>\n\n<p><font size="5">Please join us. </font></p>\n\n<p><b><font face="Calibri\,Calibri" size="6"><font face="Calibri\,Calibri" size="6">THURSDAY\, APRIL 28\, 2016 </font></font></b></p>\n\n<p><b><font face="Calibri\,Calibri" size="6"><font face="Calibri\,Calibri" size="6">4:00PM &ndash\; 8:00PM </font></font></b></p>\n\n<p><font size="5">Hors d&rsquo\;oeuvres &amp\; Beverages </font></p>\n\n<p><font size="4">PLEASE RSVP </font></p>\n
LOCATION:The Center at Northridge 12285 Pecos Street Westminster\, CO 80234
UID:e.2690.2037
SEQUENCE:3
DTSTAMP:20260422T171751Z
URL:https://www.westminsterchamber.biz/events/details/ribbon-cutting-the-center-at-northridge-04-28-2016-2037
END:VEVENT

END:VCALENDAR
