BEGIN:VCALENDAR
VERSION:2.0
PRODID:-//ChamberMaster//Event Calendar 2.0//EN
METHOD:PUBLISH
X-PUBLISHED-TTL:P3D
REFRESH-INTERVAL:P3D
CALSCALE:GREGORIAN
BEGIN:VEVENT
DTSTART:20170712T230000Z
DTEND:20170712T233000Z
X-MICROSOFT-CDO-ALLDAYEVENT:FALSE
SUMMARY:Ribbon Cutting: The Hearing & Tinnitus Center
DESCRIPTION:Join us for a celebration of The Hearing and Tinnitus Center's anniversary.
X-ALT-DESC;FMTTYPE=text/html:Join us for a celebration of The Hearing and Tinnitus Center&#39\;s anniversary. &nbsp\;
LOCATION:1001 W. 120th Ave\, Suite 214 Westminster\, CO 80234
UID:e.2690.5413
SEQUENCE:3
DTSTAMP:20260421T154924Z
URL:https://www.westminsterchamber.biz/events/details/ribbon-cutting-the-hearing-tinnitus-center-5413
END:VEVENT

END:VCALENDAR
