BEGIN:VCALENDAR
VERSION:2.0
PRODID:-//ChamberMaster//Event Calendar 2.0//EN
METHOD:PUBLISH
X-PUBLISHED-TTL:P3D
REFRESH-INTERVAL:P3D
CALSCALE:GREGORIAN
BEGIN:VEVENT
DTSTART:20180322T230000Z
DTEND:20180323T010000Z
X-MICROSOFT-CDO-ALLDAYEVENT:FALSE
SUMMARY:Ribbon Cutting: Yoga Pod Westminster
DESCRIPTION:Join us for the grand opening of Yoga Pod in Westminster! We will kick off the evening with a Ribbon Cutting from 5-5:30PM\, followed by free classes at 5:45PM and 6:00PM. Have kids? Bring them with you for a 20 minute Kids yoga session.
X-ALT-DESC;FMTTYPE=text/html:Join us for the grand opening of Yoga Pod in Westminster! We will kick off the evening with a Ribbon Cutting from 5-5:30PM\, followed by free classes at 5:45PM and 6:00PM. Have kids? Bring them with you for a 20 minute Kids yoga session.
LOCATION:10450 Town Center Drive\, Suite 200 Westminster\, CO 80021
UID:e.2690.6744
SEQUENCE:3
DTSTAMP:20260421T033124Z
URL:https://www.westminsterchamber.biz/events/details/ribbon-cutting-yoga-pod-westminster-6744
END:VEVENT

END:VCALENDAR
