BEGIN:VCALENDAR
VERSION:2.0
PRODID:-//ChamberMaster//Event Calendar 2.0//EN
METHOD:PUBLISH
X-PUBLISHED-TTL:P3D
REFRESH-INTERVAL:P3D
CALSCALE:GREGORIAN
BEGIN:VEVENT
DTSTART:20250315T160000Z
DTEND:20250315T190000Z
X-MICROSOFT-CDO-ALLDAYEVENT:FALSE
SUMMARY:Rockstar Pole Fitness Re-Opening Celebration (Member Event)
DESCRIPTION:Rockstar Re-Opening - Open House Celebration!\n\n\n\nCome celebrate with us! Come say hi\, check out the renovated studio! \n\n\n\nBig sale ad free gear with deals!
X-ALT-DESC;FMTTYPE=text/html:Rockstar Re-Opening - Open House Celebration!<br />\n<br />\nCome celebrate with us! Come say hi\, check out the renovated studio!&nbsp\;<br />\n<br />\nBig sale ad free gear with deals!&nbsp\;
LOCATION:Rockstar Pole Fitness 8841 Harlan Street Westminster\, CO 80031
UID:e.2690.19675
SEQUENCE:3
DTSTAMP:20260423T201325Z
URL:https://www.westminsterchamber.biz/events/details/rockstar-pole-fitness-re-opening-celebration-member-event-19675
END:VEVENT

END:VCALENDAR
