BEGIN:VCALENDAR
VERSION:2.0
PRODID:-//ChamberMaster//Event Calendar 2.0//EN
METHOD:PUBLISH
X-PUBLISHED-TTL:P3D
REFRESH-INTERVAL:P3D
CALSCALE:GREGORIAN
BEGIN:VEVENT
DTSTART:20161203T190000Z
DTEND:20161203T230000Z
X-MICROSOFT-CDO-ALLDAYEVENT:FALSE
SUMMARY:SCL Health Grand Opening Event
DESCRIPTION:SCL Health Grand Opening Event\n\nJoin us for a food truck and festival atmosphere as SCL Health opens their new location in Northglenn!\n\n\n\nFun for the whole family!
X-ALT-DESC;FMTTYPE=text/html:SCL Health Grand Opening Event<br />\nJoin us for a food truck and festival atmosphere as SCL Health opens their new location in Northglenn!<br />\n<br />\nFun for the whole family!
LOCATION:SCL Health 11900 Grant Street Northglenn\, CO
UID:e.2690.2890
SEQUENCE:3
DTSTAMP:20260422T032258Z
URL:https://www.westminsterchamber.biz/events/details/scl-health-grand-opening-event-2890
END:VEVENT

END:VCALENDAR
