BEGIN:VCALENDAR
VERSION:2.0
PRODID:-//ChamberMaster//Event Calendar 2.0//EN
METHOD:PUBLISH
X-PUBLISHED-TTL:P3D
REFRESH-INTERVAL:P3D
CALSCALE:GREGORIAN
BEGIN:VEVENT
DTSTART:20181208T170000Z
DTEND:20181208T200000Z
X-MICROSOFT-CDO-ALLDAYEVENT:FALSE
SUMMARY:Spartan College Charity Drive and Open House
DESCRIPTION:Join us on Saturday\, December 8th Spartan College of Aeronautics and Technology has teamed up with the United Way and Colorado Children's Hospital. Bring a coat for our United Way donation or a gift to donate to The Children's Hospital. Gifts include colored pencils and markers\, coloring books\, fuzzy felt posters\, Playdough\, super hero's items from DC Comics\, Marvel or Disney. To see a full list\, please click here. http://www.childrenscolorado.org/globalassets/community/donate-volunteer/wish-list-ongoing.pdf Those who donate will be entered into a drawing to win a remote-controlled drone. There will also be Drone Demonstrations - Free pictures with Santa and free Cookies & Hot Chocolate with small aircraft's on display.
X-ALT-DESC;FMTTYPE=text/html:Join us on Saturday\, December 8th Spartan College of Aeronautics and Technology has teamed up with the United Way and Colorado Children&#39\;s Hospital. Bring a coat for our United Way donation or a gift to donate to The Children&rsquo\;s Hospital. Gifts include colored pencils and markers\, coloring books\, fuzzy felt posters\, Playdough\, super hero&rsquo\;s items from DC Comics\, Marvel or Disney. To see a full list\, please click here. http://www.childrenscolorado.org/globalassets/community/donate-volunteer/wish-list-ongoing.pdf Those who donate will be entered into a drawing to win a remote-controlled drone. There will also be Drone Demonstrations - Free pictures with Santa and free Cookies &amp\; Hot Chocolate with small aircraft&#39\;s on display.
LOCATION:10851 West 120th Ave\, Broomfield Colorado 80021
UID:e.2690.10212
SEQUENCE:3
DTSTAMP:20260420T095225Z
URL:https://www.westminsterchamber.biz/events/details/spartan-college-charity-drive-and-open-house-10212
END:VEVENT

END:VCALENDAR
