BEGIN:VCALENDAR
VERSION:2.0
PRODID:-//ChamberMaster//Event Calendar 2.0//EN
METHOD:PUBLISH
X-PUBLISHED-TTL:P3D
REFRESH-INTERVAL:P3D
CALSCALE:GREGORIAN
BEGIN:VEVENT
DTSTART:20250417T234500Z
DTEND:20250418T030000Z
X-MICROSOFT-CDO-ALLDAYEVENT:FALSE
SUMMARY:Spring Into Conservation: Monarch Migration: A Journey Worth Protecting (Member Event)
DESCRIPTION:Join us as we Spring into Conservation on April 17 with an after-hours celebration of North America's most iconic butterfly\, the monarch! It will be an inspiring and educational evening highlighting Butterfly Pavilion's latest conservation project that protects the migratory monarch butterflies on their journey across North America. You'll discover the vital conservation efforts to preserve one of Mexico's most endangered forests\, where these butterflies spend the winter. Indulge in a Mexican-inspired meal\, bid on exciting live auction items\, and raise critical funds to protect migratory monarch butterflies. During cocktail hour\, step into our Wings of the Tropics exhibit\, a lush\, indoor rainforest conservatory where you will be surrounded by nearly 2\,000 butterflies. You can also explore Butterfly Pavilion's terrestrial and aquatic exhibits\, discovering just a fraction of the small but mighty creatures shaping our world. 5:45pm - VIP Check in begins with Tour 6:30pm   General Admission 6:00-7:20pm   Cocktail Hour 7:20   9:00pm   Dinner & Program $100 General Admission | $150 VIP Admission
X-ALT-DESC;FMTTYPE=text/html:Join us as we Spring into Conservation on April 17 with an after-hours celebration of North America&rsquo\;s most iconic butterfly\, the monarch! It will be an inspiring and educational evening highlighting Butterfly Pavilion&rsquo\;s latest conservation project that protects the migratory monarch butterflies on their journey across North America. You&#39\;ll discover the vital conservation efforts to preserve one of Mexico&rsquo\;s most endangered forests\, where these butterflies spend the winter. Indulge in a Mexican-inspired meal\, bid on exciting live auction items\, and raise critical funds to protect migratory monarch butterflies. During cocktail hour\, step into our Wings of the Tropics exhibit\, a lush\, indoor rainforest conservatory where you will be surrounded by nearly 2\,000 butterflies. You can also explore Butterfly Pavilion&rsquo\;s terrestrial and aquatic exhibits\, discovering just a fraction of the small but mighty creatures shaping our world. 5:45pm - VIP Check in begins with Tour 6:30pm &ndash\; General Admission 6:00-7:20pm &ndash\; Cocktail Hour 7:20 &ndash\; 9:00pm &ndash\; Dinner &amp\; Program $100 General Admission | $150 VIP Admission
LOCATION:Butterfly Pavilion 6252 West 104th Ave. Westminster\, CO 80020
UID:e.2690.19795
SEQUENCE:3
DTSTAMP:20260419T194016Z
URL:https://www.westminsterchamber.biz/events/details/spring-into-conservation-monarch-migration-a-journey-worth-protecting-member-event-19795
END:VEVENT

END:VCALENDAR
