BEGIN:VCALENDAR
VERSION:2.0
PRODID:-//ChamberMaster//Event Calendar 2.0//EN
METHOD:PUBLISH
X-PUBLISHED-TTL:P3D
REFRESH-INTERVAL:P3D
CALSCALE:GREGORIAN
BEGIN:VEVENT
DTSTART:20190703T220000Z
DTEND:20190704T050000Z
X-MICROSOFT-CDO-ALLDAYEVENT:FALSE
SUMMARY:Stars & Stripes
DESCRIPTION:Join us at Riverdale Regional Park\, 9755 Henderson Rd.\, Brighton\, on Wednesday\, July 3\, for the annual Stars & Stripes event! Enjoy free parking\, live music\, family-friendly events\, food and beverage vendors\, and an amazing fireworks display.
X-ALT-DESC;FMTTYPE=text/html:<span style='display: inline !important\; float: none\; background-color: rgb(245\, 248\, 250)\; color: rgb(20\, 23\, 26)\; font-family: "Segoe UI"\,Arial\,sans-serif\; font-size: 14px\; font-style: normal\; font-variant: normal\; font-weight: 400\; letter-spacing: normal\; line-height: 20px\; orphans: 2\; overflow-wrap: break-word\; text-align: left\; text-decoration: none\; text-indent: 0px\; text-transform: none\; -webkit-text-stroke-width: 0px\; white-space: pre-wrap\; word-spacing: 0px\;'>Join us at Riverdale Regional Park\, 9755 Henderson Rd.\, Brighton\, on Wednesday\, July 3\, for the annual Stars &amp\; Stripes event! Enjoy free parking\, live music\, family-friendly events\, food and beverage vendors\, and an amazing fireworks display. </span>
LOCATION:
UID:e.2690.11328
SEQUENCE:3
DTSTAMP:20260420T010521Z
URL:https://www.westminsterchamber.biz/events/details/stars-stripes-11328
END:VEVENT

END:VCALENDAR
