BEGIN:VCALENDAR
VERSION:2.0
PRODID:-//ChamberMaster//Event Calendar 2.0//EN
METHOD:PUBLISH
X-PUBLISHED-TTL:P3D
REFRESH-INTERVAL:P3D
CALSCALE:GREGORIAN
BEGIN:VEVENT
DTSTART:20181009T223000Z
DTEND:20181010T003000Z
X-MICROSOFT-CDO-ALLDAYEVENT:FALSE
SUMMARY:State & County Candidate: Meet & Greet
DESCRIPTION:Meet and mingle with candidates seeking State and County Level offices. Get to know them in an informal environment.  Light refreshments and appetizers provided! RSVP preferred.
X-ALT-DESC;FMTTYPE=text/html:Meet and mingle with candidates seeking State and County Level offices. Get to know them in an informal environment.&nbsp\; Light refreshments and appetizers provided! RSVP preferred.&nbsp\;
LOCATION:DaVinci Institute 9191 Sheridan Blvd. 3rd Floor Westminster\, CO 80031
UID:e.2690.8755
SEQUENCE:3
DTSTAMP:20260420T125435Z
URL:https://www.westminsterchamber.biz/events/details/state-county-candidate-meet-greet-8755
END:VEVENT

END:VCALENDAR
