BEGIN:VCALENDAR
VERSION:2.0
PRODID:-//ChamberMaster//Event Calendar 2.0//EN
METHOD:PUBLISH
X-PUBLISHED-TTL:P3D
REFRESH-INTERVAL:P3D
CALSCALE:GREGORIAN
BEGIN:VEVENT
DTSTART:20180927T230000Z
DTEND:20180928T030000Z
X-MICROSOFT-CDO-ALLDAYEVENT:FALSE
SUMMARY:Stouts and Stories Beer Tour Kick-Off
DESCRIPTION:The Jeffco Library Foundation invites you to enjoy tastings from 12 local Jefferson County brewpubs\, brew talks by local experts\, live music by Half Pint and The Growlers\, food trucks\, games and prizes at their Stouts and Stories\, Ales and Tales Beer Tour Kick-Off! General admission tickets for the kick-off event are $15 each\, and VIP tickets (at $25 each) enable you to also view the Cool Car Collection of rare and exotic vehicles in the Steel Affairs showroom. The event also launches the six-week\, self-guided craft beer tour throughout the county available from September 28 through November 11. Free beer tour "passports" can be picked up at no charge at the kick-off party\, at any Jefferson County Public Library or at any of four Jefferson County-based Westerra Credit Union locations. Join us at this fundraiser event that supports the Jeffco Public Library. We'll see you there! Must be 21 or over to attend.
X-ALT-DESC;FMTTYPE=text/html:The Jeffco Library Foundation invites you to enjoy tastings from 12 local Jefferson County brewpubs\, brew talks by local experts\, live music by Half Pint and The Growlers\, food trucks\, games and prizes at their Stouts and Stories\, Ales and Tales Beer Tour Kick-Off! General admission tickets for the kick-off event are $15 each\, and VIP tickets (at $25 each) enable you to also view the Cool Car Collection of rare and exotic vehicles in the Steel Affairs showroom. The event also launches the six-week\, self-guided craft beer tour throughout the county available from September 28 through November 11. Free beer tour &ldquo\;passports&rdquo\; can be picked up at no charge at the kick-off party\, at any Jefferson County Public Library or at any of four Jefferson County-based Westerra Credit Union locations. Join us at this fundraiser event that supports the Jeffco Public Library. We&#39\;ll see you there! Must be 21 or over to attend.
LOCATION:Lamar Street Center 5889 Lamar St Arvada\, CO 80003
UID:e.2690.10183
SEQUENCE:3
DTSTAMP:20260420T163628Z
URL:https://www.westminsterchamber.biz/events/details/stouts-and-stories-beer-tour-kick-off-10183
END:VEVENT

END:VCALENDAR
