BEGIN:VCALENDAR
VERSION:2.0
PRODID:-//ChamberMaster//Event Calendar 2.0//EN
METHOD:PUBLISH
X-PUBLISHED-TTL:P3D
REFRESH-INTERVAL:P3D
CALSCALE:GREGORIAN
BEGIN:VEVENT
DTSTART:20181215T180000Z
DTEND:20190101T040000Z
X-MICROSOFT-CDO-ALLDAYEVENT:FALSE
SUMMARY:Sugarfire Smoke House Holiday Gift Card Promo Through Dec-31
DESCRIPTION:The giving season is here and Sugarfire is doing just that! Through the end of the year\, all Sugarfire Smoke House locations will offer an extra $10 gift certificate for every gift card purchase of $50. Use your extra $10 to Sugarfire as a stocking stuffer\, gift to a friend\, or treat yourself on a future visit. Either way\, stop into your neighborhood Sugarfire through DEC-31 and load-up on holiday gift giving goodness! Offer available at all Sugarfire Smoke House locaitons\, including Olivette\, MO\, St. Charles\, MO\, Winghaven\, MO\, Washington\, MO\, Cape Girardeau\, MO\, Downtown STL\, MO\, Valley Park\, MO\, Farmington\, MO\, O'Fallon\, IL\, Downtown Indy\, IN\, and Westminster\, CO. sugarfiresmokehouse.com Facebook\, Twitter and Instagram
X-ALT-DESC;FMTTYPE=text/html:The giving season is here and Sugarfire is doing just that! Through the end of the year\, all Sugarfire Smoke House locations will offer an extra $10 gift certificate for every gift card purchase of $50. Use your extra $10 to Sugarfire as a stocking stuffer\, gift to a friend\, or treat yourself on a future visit. Either way\, stop into your neighborhood Sugarfire through DEC-31 and load-up on holiday gift giving goodness! Offer available at all Sugarfire Smoke House locaitons\, including Olivette\, MO\, St. Charles\, MO\, Winghaven\, MO\, Washington\, MO\, Cape Girardeau\, MO\, Downtown STL\, MO\, Valley Park\, MO\, Farmington\, MO\, O&rsquo\;Fallon\, IL\, Downtown Indy\, IN\, and Westminster\, CO. sugarfiresmokehouse.com Facebook\,&nbsp\;Twitter&nbsp\;and&nbsp\;Instagram
LOCATION:14375 Orchard Parkway Westminster\, CO 80023
UID:e.2690.10228
SEQUENCE:3
DTSTAMP:20260420T111636Z
URL:https://www.westminsterchamber.biz/events/details/sugarfire-smoke-house-holiday-gift-card-promo-through-dec-31-10228
END:VEVENT

END:VCALENDAR
